BEGIN:VCALENDAR
VERSION:2.0
PRODID:-//jEvents 2.0 for Joomla//EN
CALSCALE:GREGORIAN
METHOD:PUBLISH
BEGIN:VTIMEZONE
TZID:Europe/Berlin
BEGIN:STANDARD
DTSTART:20241027T020000
RDATE:20250330T030000
TZOFFSETFROM:+0200
TZOFFSETTO:+0100
TZNAME:Europe/Berlin CET
END:STANDARD
BEGIN:STANDARD
DTSTART:20251026T020000
RDATE:20260329T030000
TZOFFSETFROM:+0200
TZOFFSETTO:+0100
TZNAME:Europe/Berlin CET
END:STANDARD
BEGIN:STANDARD
DTSTART:20261025T020000
RDATE:20270328T030000
TZOFFSETFROM:+0200
TZOFFSETTO:+0100
TZNAME:Europe/Berlin CET
END:STANDARD
BEGIN:STANDARD
DTSTART:20271031T020000
RDATE:20280326T030000
TZOFFSETFROM:+0200
TZOFFSETTO:+0100
TZNAME:Europe/Berlin CET
END:STANDARD
BEGIN:STANDARD
DTSTART:20281029T020000
RDATE:20290325T030000
TZOFFSETFROM:+0200
TZOFFSETTO:+0100
TZNAME:Europe/Berlin CET
END:STANDARD
BEGIN:STANDARD
DTSTART:20291028T020000
RDATE:20300331T030000
TZOFFSETFROM:+0200
TZOFFSETTO:+0100
TZNAME:Europe/Berlin CET
END:STANDARD
BEGIN:STANDARD
DTSTART:20301027T020000
RDATE:20310330T030000
TZOFFSETFROM:+0200
TZOFFSETTO:+0100
TZNAME:Europe/Berlin CET
END:STANDARD
BEGIN:STANDARD
DTSTART:20311026T020000
RDATE:20320328T030000
TZOFFSETFROM:+0200
TZOFFSETTO:+0100
TZNAME:Europe/Berlin CET
END:STANDARD
BEGIN:DAYLIGHT
DTSTART:20240417T000000
RDATE:20241027T020000
TZOFFSETFROM:+0100
TZOFFSETTO:+0200
TZNAME:Europe/Berlin CEST
END:DAYLIGHT
BEGIN:DAYLIGHT
DTSTART:20250330T030000
RDATE:20251026T020000
TZOFFSETFROM:+0100
TZOFFSETTO:+0200
TZNAME:Europe/Berlin CEST
END:DAYLIGHT
BEGIN:DAYLIGHT
DTSTART:20260329T030000
RDATE:20261025T020000
TZOFFSETFROM:+0100
TZOFFSETTO:+0200
TZNAME:Europe/Berlin CEST
END:DAYLIGHT
BEGIN:DAYLIGHT
DTSTART:20270328T030000
RDATE:20271031T020000
TZOFFSETFROM:+0100
TZOFFSETTO:+0200
TZNAME:Europe/Berlin CEST
END:DAYLIGHT
BEGIN:DAYLIGHT
DTSTART:20280326T030000
RDATE:20281029T020000
TZOFFSETFROM:+0100
TZOFFSETTO:+0200
TZNAME:Europe/Berlin CEST
END:DAYLIGHT
BEGIN:DAYLIGHT
DTSTART:20290325T030000
RDATE:20291028T020000
TZOFFSETFROM:+0100
TZOFFSETTO:+0200
TZNAME:Europe/Berlin CEST
END:DAYLIGHT
BEGIN:DAYLIGHT
DTSTART:20300331T030000
RDATE:20301027T020000
TZOFFSETFROM:+0100
TZOFFSETTO:+0200
TZNAME:Europe/Berlin CEST
END:DAYLIGHT
BEGIN:DAYLIGHT
DTSTART:20310330T030000
RDATE:20311026T020000
TZOFFSETFROM:+0100
TZOFFSETTO:+0200
TZNAME:Europe/Berlin CEST
END:DAYLIGHT
END:VTIMEZONE
BEGIN:VEVENT
UID:0860804da0c2ee352dba97587ce3ebda
CATEGORIES:Wanderpaddeln
CREATED:20240312T011855
SUMMARY:KVBW: Verbandsfahrt Gobenowsee
DESCRIPTION:<p style="text-align: right;"><strong><span style="text-decoration: underli
 ne; color: #3366ff;">Organisation:</span></strong> KV BW</p><p style="text-
 align: right;">Ansprechpartnerin: Christine Geißler, SV 1845 Esslingen</p><
 p style="text-align: right;">E-Mail: <span id="cloakc8c31ec6cb89454c92626ab
 a9101eca2">Diese E-Mail-Adresse ist vor Spambots geschützt! Zur Anzeige mus
 s JavaScript eingeschaltet sein!</span><script type='text/javascript'>
				
 document.getElementById('cloakc8c31ec6cb89454c92626aba9101eca2').innerHTML 
 = '';
				var prefix = '&#109;a' + 'i&#108;' + '&#116;o';
				var path = 'h
 r' + 'ef' + '=';
				var addyc8c31ec6cb89454c92626aba9101eca2 = 'chr&#105;s
 t&#105;n&#101;.g&#101;&#105;ssl&#101;r10' + '&#64;';
				addyc8c31ec6cb8945
 4c92626aba9101eca2 = addyc8c31ec6cb89454c92626aba9101eca2 + 'gmx' + '&#46;'
  + 'd&#101;';
				var addy_textc8c31ec6cb89454c92626aba9101eca2 = 'chr&#105
 ;st&#105;n&#101;.g&#101;&#105;ssl&#101;r10' + '&#64;' + 'gmx' + '&#46;' + '
 d&#101;';document.getElementById('cloakc8c31ec6cb89454c92626aba9101eca2').i
 nnerHTML += '<a ' + path + '\'' + prefix + ':' + addyc8c31ec6cb89454c92626a
 ba9101eca2 + '\'>'+addy_textc8c31ec6cb89454c92626aba9101eca2+'<\/a>';
		</s
 cript></p><p>Nächstes Jahr – also im Jahr <strong>2025</strong>! – geht es 
 in der Osterwoche an den Gobenowsee in der Mecklenburgische Seenplatte. Das
  Standquartier ist in der Nähe von Mirow auf dem:</p><p><strong>Campingplat
 z Am Gobenowsee, Am Gobenowsee 1, 17255 Wustrow</strong></p><p>Vor Ort sind
  Touren zwischen 6 km und 36 km möglich. Es kann auf Seen unterschiedlicher
  Größe sowie den Verbindungskanälen und der Havel gepaddelt werden. Mit Aut
 ofahren verbunden sind z.&nbsp;B. „Die alte Fahrt“, der Müritzsee, die Have
 lquellseen …</p><p><strong>Bisher ist folgender Ablauf geplant: </strong></
 p><table style="width: 620px; height: 185px;"><tbody><tr><td style="text-al
 ign: right; vertical-align: top;"><p>18. oder 19. April 2025:</p></td><td><
 p>Individuelle Anreise</p></td></tr><tr><td style="text-align: right; verti
 cal-align: top;"><p>19. – 25. April 2025:</p></td><td><p>Paddeltage</p></td
 ></tr><tr><td style="text-align: right; vertical-align: top;"><p>26. April 
 2025:</p></td><td><p>Abreise</p></td></tr></tbody></table><p>&nbsp;</p><p><
 strong>Wie immer bei unseren KVBW Verbandsfahrten gilt:</strong> Die Teilna
 hme erfolgt auf eigene Gefahr und in eigener Verantwortung. Alle Teilnehmer
  sind aufgefordert sich umwelt- und naturbewusst zu verhalten und immer sic
 her­heitsbewusst mit angelegter Schwimmweste zu paddeln.</p><p>Ich habe Ste
 llplätze, Mobilheime und Hütten vorreserviert. Da Ostern eine beliebte Reis
 ezeit ist und es nur wenige Mobilheime und Hütten gibt, meldet euch bitte s
 chnell beim Campingplatz mit dem Kennwort <strong>Verbandsfahrt KVBW</stron
 g> an: <strong>www.gobenowsee.m-vp.de</strong>, E-Mail: <strong><span id="c
 loak2e0ec65c54c6dbee9e931f5584dc00dd">Diese E-Mail-Adresse ist vor Spambots
  geschützt! Zur Anzeige muss JavaScript eingeschaltet sein!</span><script t
 ype='text/javascript'>
				document.getElementById('cloak2e0ec65c54c6dbee9e
 931f5584dc00dd').innerHTML = '';
				var prefix = '&#109;a' + 'i&#108;' + '
 &#116;o';
				var path = 'hr' + 'ef' + '=';
				var addy2e0ec65c54c6dbee9e9
 31f5584dc00dd = 'g&#111;b&#101;n&#111;w' + '&#64;';
				addy2e0ec65c54c6dbe
 e9e931f5584dc00dd = addy2e0ec65c54c6dbee9e931f5584dc00dd + 't-&#111;nl&#105
 ;n&#101;' + '&#46;' + 'd&#101;';
				var addy_text2e0ec65c54c6dbee9e931f558
 4dc00dd = 'g&#111;b&#101;n&#111;w' + '&#64;' + 't-&#111;nl&#105;n&#101;' + 
 '&#46;' + 'd&#101;';document.getElementById('cloak2e0ec65c54c6dbee9e931f558
 4dc00dd').innerHTML += '<a ' + path + '\'' + prefix + ':' + addy2e0ec65c54c
 6dbee9e931f5584dc00dd + '\'>'+addy_text2e0ec65c54c6dbee9e931f5584dc00dd+'<\
 /a>';
		</script></strong></p><p><strong>Hinweis:</strong> Mobilheime und H
 ütten können nur von Samstag (19.04.2025) bis Samstag reserviert werden.</p
 ><p>Wir freuen uns auf Euer Kommen, und bitten um eine kurze Rückmeldung (a
 m besten gleich nach eurer Quar­tier­buchung), wer voraussichtlich mitkomme
 n wird, per E-Mail an <strong><span id="cloak99a6774d515dd21d338b05b6879bb2
 4b">Diese E-Mail-Adresse ist vor Spambots geschützt! Zur Anzeige muss JavaS
 cript eingeschaltet sein!</span><script type='text/javascript'>
				documen
 t.getElementById('cloak99a6774d515dd21d338b05b6879bb24b').innerHTML = '';
	
 			var prefix = '&#109;a' + 'i&#108;' + '&#116;o';
				var path = 'hr' + 'e
 f' + '=';
				var addy99a6774d515dd21d338b05b6879bb24b = 'chr&#105;st&#105;
 n&#101;.g&#101;&#105;ssl&#101;r10' + '&#64;';
				addy99a6774d515dd21d338b0
 5b6879bb24b = addy99a6774d515dd21d338b05b6879bb24b + 'gmx' + '&#46;' + 'd&#
 101;';
				var addy_text99a6774d515dd21d338b05b6879bb24b = 'chr&#105;st&#10
 5;n&#101;.g&#101;&#105;ssl&#101;r10' + '&#64;' + 'gmx' + '&#46;' + 'd&#101;
 ';document.getElementById('cloak99a6774d515dd21d338b05b6879bb24b').innerHTM
 L += '<a ' + path + '\'' + prefix + ':' + addy99a6774d515dd21d338b05b6879bb
 24b + '\'>'+addy_text99a6774d515dd21d338b05b6879bb24b+'<\/a>';
		</script><
 /strong></p><p>Liebe Grüße</p><p>Christine Geißler (SV 1845 Esslingen)</p><
 p>&nbsp;</p><p>&nbsp;</p>
DTSTAMP:20260421T194418
DTSTART;TZID=Europe/Berlin;VALUE=DATE:20250418
DTEND;TZID=Europe/Berlin;VALUE=DATE:20250427
SEQUENCE:0
TRANSP:OPAQUE
END:VEVENT
END:VCALENDAR