BEGIN:VCALENDAR
VERSION:2.0
PRODID:-//jEvents 2.0 for Joomla//EN
CALSCALE:GREGORIAN
METHOD:PUBLISH
BEGIN:VTIMEZONE
TZID:Europe/Berlin
BEGIN:STANDARD
DTSTART:20231029T020000
RDATE:20240331T030000
TZOFFSETFROM:+0200
TZOFFSETTO:+0100
TZNAME:Europe/Berlin CET
END:STANDARD
BEGIN:STANDARD
DTSTART:20241027T020000
RDATE:20250330T030000
TZOFFSETFROM:+0200
TZOFFSETTO:+0100
TZNAME:Europe/Berlin CET
END:STANDARD
BEGIN:STANDARD
DTSTART:20251026T020000
RDATE:20260329T030000
TZOFFSETFROM:+0200
TZOFFSETTO:+0100
TZNAME:Europe/Berlin CET
END:STANDARD
BEGIN:STANDARD
DTSTART:20261025T020000
RDATE:20270328T030000
TZOFFSETFROM:+0200
TZOFFSETTO:+0100
TZNAME:Europe/Berlin CET
END:STANDARD
BEGIN:STANDARD
DTSTART:20271031T020000
RDATE:20280326T030000
TZOFFSETFROM:+0200
TZOFFSETTO:+0100
TZNAME:Europe/Berlin CET
END:STANDARD
BEGIN:STANDARD
DTSTART:20281029T020000
RDATE:20290325T030000
TZOFFSETFROM:+0200
TZOFFSETTO:+0100
TZNAME:Europe/Berlin CET
END:STANDARD
BEGIN:STANDARD
DTSTART:20291028T020000
RDATE:20300331T030000
TZOFFSETFROM:+0200
TZOFFSETTO:+0100
TZNAME:Europe/Berlin CET
END:STANDARD
BEGIN:STANDARD
DTSTART:20301027T020000
RDATE:20310330T030000
TZOFFSETFROM:+0200
TZOFFSETTO:+0100
TZNAME:Europe/Berlin CET
END:STANDARD
BEGIN:STANDARD
DTSTART:20311026T020000
RDATE:20320328T030000
TZOFFSETFROM:+0200
TZOFFSETTO:+0100
TZNAME:Europe/Berlin CET
END:STANDARD
BEGIN:DAYLIGHT
DTSTART:20230719T000000
RDATE:20231029T020000
TZOFFSETFROM:+0100
TZOFFSETTO:+0200
TZNAME:Europe/Berlin CEST
END:DAYLIGHT
BEGIN:DAYLIGHT
DTSTART:20240331T030000
RDATE:20241027T020000
TZOFFSETFROM:+0100
TZOFFSETTO:+0200
TZNAME:Europe/Berlin CEST
END:DAYLIGHT
BEGIN:DAYLIGHT
DTSTART:20250330T030000
RDATE:20251026T020000
TZOFFSETFROM:+0100
TZOFFSETTO:+0200
TZNAME:Europe/Berlin CEST
END:DAYLIGHT
BEGIN:DAYLIGHT
DTSTART:20260329T030000
RDATE:20261025T020000
TZOFFSETFROM:+0100
TZOFFSETTO:+0200
TZNAME:Europe/Berlin CEST
END:DAYLIGHT
BEGIN:DAYLIGHT
DTSTART:20270328T030000
RDATE:20271031T020000
TZOFFSETFROM:+0100
TZOFFSETTO:+0200
TZNAME:Europe/Berlin CEST
END:DAYLIGHT
BEGIN:DAYLIGHT
DTSTART:20280326T030000
RDATE:20281029T020000
TZOFFSETFROM:+0100
TZOFFSETTO:+0200
TZNAME:Europe/Berlin CEST
END:DAYLIGHT
BEGIN:DAYLIGHT
DTSTART:20290325T030000
RDATE:20291028T020000
TZOFFSETFROM:+0100
TZOFFSETTO:+0200
TZNAME:Europe/Berlin CEST
END:DAYLIGHT
BEGIN:DAYLIGHT
DTSTART:20300331T030000
RDATE:20301027T020000
TZOFFSETFROM:+0100
TZOFFSETTO:+0200
TZNAME:Europe/Berlin CEST
END:DAYLIGHT
BEGIN:DAYLIGHT
DTSTART:20310330T030000
RDATE:20311026T020000
TZOFFSETFROM:+0100
TZOFFSETTO:+0200
TZNAME:Europe/Berlin CEST
END:DAYLIGHT
END:VTIMEZONE
BEGIN:VEVENT
UID:4443c8914f03977e1dc15f50c3f731d9
CATEGORIES:Wanderpaddeln, Seekajak-Touren
CREATED:20240123T231434
SUMMARY:Rettungs- & Sicherheits-Training im Seekajak mit Salzwasser Union Friedrichshafen
LOCATION:VfB Friedrichshafen
DESCRIPTION:<p style="text-align: right;"><span style="color: #3366ff;"><strong>Fahrten
 leiter:</strong></span> Seekajakwart&nbsp;<span id="cloakba387b34bff484bc0b
 68ec3397d27063"><span id="cloak7c8e4b2802076f0c0e384ce125e27d0b">Diese E-Ma
 il-Adresse ist vor Spambots geschützt! Zur Anzeige muss JavaScript eingesch
 altet sein!</span><script type='text/javascript'>
				document.getElementBy
 Id('cloak7c8e4b2802076f0c0e384ce125e27d0b').innerHTML = '';
				var prefix 
 = '&#109;a' + 'i&#108;' + '&#116;o';
				var path = 'hr' + 'ef' + '=';
				
 var addy7c8e4b2802076f0c0e384ce125e27d0b = 's&#101;&#101;k&#97;j&#97;k' + '
 &#64;';
				addy7c8e4b2802076f0c0e384ce125e27d0b = addy7c8e4b2802076f0c0e38
 4ce125e27d0b + 'fff-fr&#101;&#105;b&#117;rg' + '&#46;' + 'd&#101;?s&#117;bj
 &#101;ct=S&#101;&#101;k&#97;j&#97;k-T&#111;&#117;r%20Schl&#101;&#105;%20&#1
 17;nd%20Fl&#101;nsb&#117;rg&#101;r-F%C3%B6rd&#101;';
				var addy_text7c8e4
 b2802076f0c0e384ce125e27d0b = 'Andr&#101;&#97;s K&#101;lm';document.getElem
 entById('cloak7c8e4b2802076f0c0e384ce125e27d0b').innerHTML += '<a title="E-
 Mail an Seekajak-Wart" ' + path + '\'' + prefix + ':' + addy7c8e4b2802076f0
 c0e384ce125e27d0b + '\' target="_blank">'+addy_text7c8e4b2802076f0c0e384ce1
 25e27d0b+'<\/a>';
		</script></span></p><p>Sicherheits- &amp; Rettungs-Trai
 ning im Seekajak zusammen mit Salzwasser Union in Friedrichshafen</p><div><
 strong>Ort:</strong><br /> VfB Friedrichshafen | Kanu<br /> Am Seemoser Hor
 n 18<br /> 88045 Friedrichshafen</div><div>&nbsp;</div><div><strong>Beschre
 ibung:</strong><br /> Regionales Sicherheits- und Techniktraining (RSTT) na
 ch den Regeln der SALZWASSER UNION. Details&nbsp;folgen nach der Anmeldung.
 </div><div>&nbsp;</div><div><strong>Voraussetzungen:</strong></div><ul><li>
 Abgeschottetes Seekajak mit Rundumleine und Lenzmöglichkeit</li><li>Schwimm
 kentnisse</li><li>keine gesundheitlichen Einschränkungen</li></ul><div>Teil
 nahmeberechtigt sind Mitglieder der SaU und alle mit Paddelerfahrung und In
 teresse an Großgewässerfahrten (Seen, Küste). Der Erwerb des A2 ist bei erf
 olgreicher Teilnahme möglich.</div><div>&nbsp;</div><p>Interesse? Du kannst
  Dich gerne schon beim Seekajak-Wart <span id="cloak98c3becaf257b43d96dcaed
 f818b4169">Diese E-Mail-Adresse ist vor Spambots geschützt! Zur Anzeige mus
 s JavaScript eingeschaltet sein!</span><script type='text/javascript'>
				
 document.getElementById('cloak98c3becaf257b43d96dcaedf818b4169').innerHTML 
 = '';
				var prefix = '&#109;a' + 'i&#108;' + '&#116;o';
				var path = 'h
 r' + 'ef' + '=';
				var addy98c3becaf257b43d96dcaedf818b4169 = 's&#101;&#1
 01;k&#97;j&#97;k' + '&#64;';
				addy98c3becaf257b43d96dcaedf818b4169 = add
 y98c3becaf257b43d96dcaedf818b4169 + 'fff-fr&#101;&#105;b&#117;rg' + '&#46;'
  + 'd&#101;?s&#117;bj&#101;ct=S&#105;ch&#101;rh&#101;&#105;tstr&#97;&#105;n
 &#105;ng%20m&#105;t%20S&#97;lzw&#97;ss&#101;r%20Un&#105;&#111;n%20&Uuml;b&#
 101;rl&#105;ng&#101;n';
				var addy_text98c3becaf257b43d96dcaedf818b4169 =
  'Andr&#101;&#97;s K&#101;lm ';document.getElementById('cloak98c3becaf257b4
 3d96dcaedf818b4169').innerHTML += '<a title="E-Mail an Seekajak-Wart" ' + p
 ath + '\'' + prefix + ':' + addy98c3becaf257b43d96dcaedf818b4169 + '\' targ
 et="_blank">'+addy_text98c3becaf257b43d96dcaedf818b4169+'<\/a>';
		</script
 ><span id="cloakba387b34bff484bc0b68ec3397d27063"></span> anmelden.</p>
X-EXTRAINFO:Voranmeldung über Andreas Kelm
DTSTAMP:20260421T134439
DTSTART;TZID=Europe/Berlin;VALUE=DATE:20240719
DTEND;TZID=Europe/Berlin;VALUE=DATE:20240722
SEQUENCE:0
TRANSP:OPAQUE
END:VEVENT
END:VCALENDAR