BEGIN:VCALENDAR
VERSION:2.0
PRODID:-//jEvents 2.0 for Joomla//EN
CALSCALE:GREGORIAN
METHOD:PUBLISH
BEGIN:VTIMEZONE
TZID:Europe/Berlin
BEGIN:STANDARD
DTSTART:20220316T193000
RDATE:20220327T030000
TZOFFSETFROM:+0200
TZOFFSETTO:+0100
TZNAME:Europe/Berlin CET
END:STANDARD
BEGIN:STANDARD
DTSTART:20221030T020000
RDATE:20230326T030000
TZOFFSETFROM:+0200
TZOFFSETTO:+0100
TZNAME:Europe/Berlin CET
END:STANDARD
BEGIN:STANDARD
DTSTART:20231029T020000
RDATE:20240331T030000
TZOFFSETFROM:+0200
TZOFFSETTO:+0100
TZNAME:Europe/Berlin CET
END:STANDARD
BEGIN:STANDARD
DTSTART:20241027T020000
RDATE:20250330T030000
TZOFFSETFROM:+0200
TZOFFSETTO:+0100
TZNAME:Europe/Berlin CET
END:STANDARD
BEGIN:STANDARD
DTSTART:20251026T020000
RDATE:20260329T030000
TZOFFSETFROM:+0200
TZOFFSETTO:+0100
TZNAME:Europe/Berlin CET
END:STANDARD
BEGIN:STANDARD
DTSTART:20261025T020000
RDATE:20270328T030000
TZOFFSETFROM:+0200
TZOFFSETTO:+0100
TZNAME:Europe/Berlin CET
END:STANDARD
BEGIN:STANDARD
DTSTART:20271031T020000
RDATE:20280326T030000
TZOFFSETFROM:+0200
TZOFFSETTO:+0100
TZNAME:Europe/Berlin CET
END:STANDARD
BEGIN:STANDARD
DTSTART:20281029T020000
RDATE:20290325T030000
TZOFFSETFROM:+0200
TZOFFSETTO:+0100
TZNAME:Europe/Berlin CET
END:STANDARD
BEGIN:STANDARD
DTSTART:20291028T020000
RDATE:20300331T030000
TZOFFSETFROM:+0200
TZOFFSETTO:+0100
TZNAME:Europe/Berlin CET
END:STANDARD
BEGIN:STANDARD
DTSTART:20301027T020000
RDATE:20310330T030000
TZOFFSETFROM:+0200
TZOFFSETTO:+0100
TZNAME:Europe/Berlin CET
END:STANDARD
BEGIN:STANDARD
DTSTART:20311026T020000
RDATE:20320328T030000
TZOFFSETFROM:+0200
TZOFFSETTO:+0100
TZNAME:Europe/Berlin CET
END:STANDARD
BEGIN:DAYLIGHT
DTSTART:20220327T030000
RDATE:20221030T020000
TZOFFSETFROM:+0100
TZOFFSETTO:+0200
TZNAME:Europe/Berlin CEST
END:DAYLIGHT
BEGIN:DAYLIGHT
DTSTART:20230326T030000
RDATE:20231029T020000
TZOFFSETFROM:+0100
TZOFFSETTO:+0200
TZNAME:Europe/Berlin CEST
END:DAYLIGHT
BEGIN:DAYLIGHT
DTSTART:20240331T030000
RDATE:20241027T020000
TZOFFSETFROM:+0100
TZOFFSETTO:+0200
TZNAME:Europe/Berlin CEST
END:DAYLIGHT
BEGIN:DAYLIGHT
DTSTART:20250330T030000
RDATE:20251026T020000
TZOFFSETFROM:+0100
TZOFFSETTO:+0200
TZNAME:Europe/Berlin CEST
END:DAYLIGHT
BEGIN:DAYLIGHT
DTSTART:20260329T030000
RDATE:20261025T020000
TZOFFSETFROM:+0100
TZOFFSETTO:+0200
TZNAME:Europe/Berlin CEST
END:DAYLIGHT
BEGIN:DAYLIGHT
DTSTART:20270328T030000
RDATE:20271031T020000
TZOFFSETFROM:+0100
TZOFFSETTO:+0200
TZNAME:Europe/Berlin CEST
END:DAYLIGHT
BEGIN:DAYLIGHT
DTSTART:20280326T030000
RDATE:20281029T020000
TZOFFSETFROM:+0100
TZOFFSETTO:+0200
TZNAME:Europe/Berlin CEST
END:DAYLIGHT
BEGIN:DAYLIGHT
DTSTART:20290325T030000
RDATE:20291028T020000
TZOFFSETFROM:+0100
TZOFFSETTO:+0200
TZNAME:Europe/Berlin CEST
END:DAYLIGHT
BEGIN:DAYLIGHT
DTSTART:20300331T030000
RDATE:20301027T020000
TZOFFSETFROM:+0100
TZOFFSETTO:+0200
TZNAME:Europe/Berlin CEST
END:DAYLIGHT
BEGIN:DAYLIGHT
DTSTART:20310330T030000
RDATE:20311026T020000
TZOFFSETFROM:+0100
TZOFFSETTO:+0200
TZNAME:Europe/Berlin CEST
END:DAYLIGHT
END:VTIMEZONE
BEGIN:VEVENT
UID:f3f51d14ff3547ce2c8d6f5a515efaa1
CATEGORIES:Mehrtages-Touren, Gepäck-Touren, Regio-Touren, Wanderpaddeln, Wildwasser-Touren, Kanupolo, Sonstiges, Jugend-Touren
CREATED:20230202T205328
SUMMARY:FFF-Mitgliederversammlung
DESCRIPTION:Einladung zur Jahreshauptversammlung \n gem. § 8 der Vereinssatzung am\n Fr
 eitag 17. März 2023 um 19.30 Uhr\nDie Mitgliederversammlung findet statt in
 : Pizzeria Capriccio, Landstraße 3 in Hugstetten\nWir laden alle Mitglieder
 , jung &amp; alt, ein, zum Austausch zwischen Vorstand und Mitgliedschaft. 
 Tauche ein, in das Vereinsleben: was geht, wer macht was, welche Ereignisse
  stehen an, welche Projekte gibt’s, was können wir besser machen?\nWir freu
 en uns vor allem auch über die vielen Jugendlichen im Verein: Komm doch auc
 h zur Mit­gliederversammlung; da geht es bis auf ein paar notwendige Reglem
 ents ? recht locker zu. Und Du kannst mitwirken in Deinem Verein, denn alle
  Mitglieder ab 16 Jahre sind wahlberechtigt.\nTagesordnung:\n\n - Begrüßung
 \n - Totengedenken\n - Wahl der Protokollführerin/des Protokollführers\n - 
 Ehrungen\n - Bericht des geschäftsführenden Vorstandes\n - Bericht der Kass
 enwartin\n - Bericht der Rechnungsprüfer, Aussprache zu den Berichten, Entl
 astung des Kassenwartes\n - Berichte der Fachwarte\n - Entlastung des Vorst
 andes\n - Wahl des Wahlleiters/Wahlleiterin\n - Wahlen\n - AnträgeAnträge b
 itte als E-Mail oder schriftlich bis zum 3. März 2023 an das geschäftsführe
 nde Vorstands-Team Klemens Binninger, Karl-Friedrich Stülpnagel, Nadja Wich
 er und Johannes Gilsdorf einreichen:\nper E-Mail: Diese E-Mail-Adresse ist 
 vor Spambots geschützt! Zur Anzeige muss JavaScript eingeschaltet sein!
			
 	document.getElementById('cloak7e5f0132b907f1ddb8c15784595d9dfa').innerHTML
  = '';
				var prefix = '&#109;a' + 'i&#108;' + '&#116;o';
				var path = '
 hr' + 'ef' + '=';
				var addy7e5f0132b907f1ddb8c15784595d9dfa = 'gf-v&#111
 ;rst&#97;nd' + '&#64;';
				addy7e5f0132b907f1ddb8c15784595d9dfa = addy7e5f
 0132b907f1ddb8c15784595d9dfa + 'fff-fr&#101;&#105;b&#117;rg' + '&#46;' + 'd
 &#101;?s&#117;bj&#101;ct=Antr&#97;g%20z&#117;r%20FFF-JHV%202023';
				var a
 ddy_text7e5f0132b907f1ddb8c15784595d9dfa = 'gf-v&#111;rst&#97;nd' + '&#64;'
  + 'fff-fr&#101;&#105;b&#117;rg' + '&#46;' + 'd&#101;';document.getElementB
 yId('cloak7e5f0132b907f1ddb8c15784595d9dfa').innerHTML += '<a title="E-Mail
  an den geschäftsführenden Vorstand" ' + path + '\'' + prefix + ':' + addy7
 e5f0132b907f1ddb8c15784595d9dfa + '\' target="_blank">'+addy_text7e5f0132b9
 07f1ddb8c15784595d9dfa+'';
		\nper Post bitte an Klemens schicken: Klemens 
 Binninger, Bollerstaudenstr. 30, 79111 Freiburg\nAnträge werden vor der Ver
 sammlung auf der Homepage im Mitgliederbereich veröffentlicht.\n\n - Versch
 iedenesMit sportlichen Grüßen\nKlemens Binninger\n
X-ALT-DESC;FMTTYPE=text/html:<p style="text-align: center;"><strong>Einladung zur Jahreshauptversammlung
  <br /> gem. § 8 der Vereinssatzung am<br /> Freitag <span style="color: #f
 f0000;">17. März 2023</span> um <span style="color: #ff0000;">19.30 Uhr</sp
 an></strong></p><p><strong>Die Mitgliederversammlung findet statt in: Pizze
 ria Capriccio, Landstraße 3 in Hugstetten</strong></p><p>Wir laden alle Mit
 glieder, jung &amp; alt, ein, zum Austausch zwischen Vorstand und Mitglieds
 chaft. Tauche ein, in das Vereinsleben: was geht, wer macht was, welche Ere
 ignisse stehen an, welche Projekte gibt’s, was können wir besser machen?</p
 ><p>Wir freuen uns vor allem auch über die vielen Jugendlichen im Verein: K
 omm doch auch zur Mit­gliederversammlung; da geht es bis auf ein paar notwe
 ndige Reglements ? recht locker zu. Und Du kannst mitwirken in Deinem Verei
 n, denn alle Mitglieder ab 16 Jahre sind wahlberechtigt.</p><p><strong>Tage
 sordnung:</strong></p><ul><li>Begrüßung</li><li>Totengedenken</li><li>Wahl 
 der Protokollführerin/des Protokollführers</li><li>Ehrungen</li><li>Bericht
  des geschäftsführenden Vorstandes</li><li>Bericht der Kassenwartin</li><li
 >Bericht der Rechnungsprüfer, Aussprache zu den Berichten, Entlastung des K
 assenwartes</li><li>Berichte der Fachwarte</li><li>Entlastung des Vorstande
 s</li><li>Wahl des Wahlleiters/Wahlleiterin</li><li>Wahlen</li><li>Anträge<
 /li></ul><p dir="ltr" style="padding-left: 30px;">Anträge bitte als E-Mail 
 oder schriftlich bis zum <strong>3.&nbsp;März</strong> <strong>2023</strong
 > an das geschäftsführende Vorstands-Team Klemens Binninger, Karl-Friedrich
  Stülpnagel, Nadja Wicher und Johannes Gilsdorf einreichen:</p><p dir="ltr"
  style="padding-left: 30px;">per E-Mail: <span id="cloak7e5f0132b907f1ddb8c
 15784595d9dfa">Diese E-Mail-Adresse ist vor Spambots geschützt! Zur Anzeige
  muss JavaScript eingeschaltet sein!</span><script type='text/javascript'>

 				document.getElementById('cloak7e5f0132b907f1ddb8c15784595d9dfa').innerH
 TML = '';
				var prefix = '&#109;a' + 'i&#108;' + '&#116;o';
				var path 
 = 'hr' + 'ef' + '=';
				var addy7e5f0132b907f1ddb8c15784595d9dfa = 'gf-v&#
 111;rst&#97;nd' + '&#64;';
				addy7e5f0132b907f1ddb8c15784595d9dfa = addy7
 e5f0132b907f1ddb8c15784595d9dfa + 'fff-fr&#101;&#105;b&#117;rg' + '&#46;' +
  'd&#101;?s&#117;bj&#101;ct=Antr&#97;g%20z&#117;r%20FFF-JHV%202023';
				va
 r addy_text7e5f0132b907f1ddb8c15784595d9dfa = 'gf-v&#111;rst&#97;nd' + '&#6
 4;' + 'fff-fr&#101;&#105;b&#117;rg' + '&#46;' + 'd&#101;';document.getEleme
 ntById('cloak7e5f0132b907f1ddb8c15784595d9dfa').innerHTML += '<a title="E-M
 ail an den geschäftsführenden Vorstand" ' + path + '\'' + prefix + ':' + ad
 dy7e5f0132b907f1ddb8c15784595d9dfa + '\' target="_blank">'+addy_text7e5f013
 2b907f1ddb8c15784595d9dfa+'<\/a>';
		</script></p><p dir="ltr" style="paddi
 ng-left: 30px;">per Post bitte an Klemens schicken: Klemens Binninger, Boll
 erstaudenstr. 30, 79111 Freiburg</p><p style="padding-left: 30px;">Anträge 
 werden vor der Versammlung auf der Homepage im Mitgliederbereich veröffentl
 icht.</p><ul><li>Verschiedenes</li></ul><p>Mit sportlichen Grüßen</p><p sty
 le="padding-left: 150px;">Klemens Binninger</p>
DTSTAMP:20260420T162239
DTSTART;TZID=Europe/Berlin:20230317T193000
SEQUENCE:0
TRANSP:OPAQUE
END:VEVENT
END:VCALENDAR