BEGIN:VCALENDAR
VERSION:2.0
PRODID:-//jEvents 2.0 for Joomla//EN
CALSCALE:GREGORIAN
METHOD:PUBLISH
BEGIN:VTIMEZONE
TZID:Europe/Berlin
BEGIN:STANDARD
DTSTART:20190116T193000
RDATE:20190331T030000
TZOFFSETFROM:+0200
TZOFFSETTO:+0100
TZNAME:Europe/Berlin CET
END:STANDARD
BEGIN:STANDARD
DTSTART:20191027T020000
RDATE:20200329T030000
TZOFFSETFROM:+0200
TZOFFSETTO:+0100
TZNAME:Europe/Berlin CET
END:STANDARD
BEGIN:STANDARD
DTSTART:20201025T020000
RDATE:20210328T030000
TZOFFSETFROM:+0200
TZOFFSETTO:+0100
TZNAME:Europe/Berlin CET
END:STANDARD
BEGIN:STANDARD
DTSTART:20211031T020000
RDATE:20220327T030000
TZOFFSETFROM:+0200
TZOFFSETTO:+0100
TZNAME:Europe/Berlin CET
END:STANDARD
BEGIN:STANDARD
DTSTART:20221030T020000
RDATE:20230326T030000
TZOFFSETFROM:+0200
TZOFFSETTO:+0100
TZNAME:Europe/Berlin CET
END:STANDARD
BEGIN:STANDARD
DTSTART:20231029T020000
RDATE:20240331T030000
TZOFFSETFROM:+0200
TZOFFSETTO:+0100
TZNAME:Europe/Berlin CET
END:STANDARD
BEGIN:STANDARD
DTSTART:20241027T020000
RDATE:20250330T030000
TZOFFSETFROM:+0200
TZOFFSETTO:+0100
TZNAME:Europe/Berlin CET
END:STANDARD
BEGIN:STANDARD
DTSTART:20251026T020000
RDATE:20260329T030000
TZOFFSETFROM:+0200
TZOFFSETTO:+0100
TZNAME:Europe/Berlin CET
END:STANDARD
BEGIN:STANDARD
DTSTART:20261025T020000
RDATE:20270328T030000
TZOFFSETFROM:+0200
TZOFFSETTO:+0100
TZNAME:Europe/Berlin CET
END:STANDARD
BEGIN:STANDARD
DTSTART:20271031T020000
RDATE:20280326T030000
TZOFFSETFROM:+0200
TZOFFSETTO:+0100
TZNAME:Europe/Berlin CET
END:STANDARD
BEGIN:STANDARD
DTSTART:20281029T020000
RDATE:20290325T030000
TZOFFSETFROM:+0200
TZOFFSETTO:+0100
TZNAME:Europe/Berlin CET
END:STANDARD
BEGIN:STANDARD
DTSTART:20291028T020000
RDATE:20300331T030000
TZOFFSETFROM:+0200
TZOFFSETTO:+0100
TZNAME:Europe/Berlin CET
END:STANDARD
BEGIN:STANDARD
DTSTART:20301027T020000
RDATE:20310330T030000
TZOFFSETFROM:+0200
TZOFFSETTO:+0100
TZNAME:Europe/Berlin CET
END:STANDARD
BEGIN:STANDARD
DTSTART:20311026T020000
RDATE:20320328T030000
TZOFFSETFROM:+0200
TZOFFSETTO:+0100
TZNAME:Europe/Berlin CET
END:STANDARD
BEGIN:DAYLIGHT
DTSTART:20190331T030000
RDATE:20191027T020000
TZOFFSETFROM:+0100
TZOFFSETTO:+0200
TZNAME:Europe/Berlin CEST
END:DAYLIGHT
BEGIN:DAYLIGHT
DTSTART:20200329T030000
RDATE:20201025T020000
TZOFFSETFROM:+0100
TZOFFSETTO:+0200
TZNAME:Europe/Berlin CEST
END:DAYLIGHT
BEGIN:DAYLIGHT
DTSTART:20210328T030000
RDATE:20211031T020000
TZOFFSETFROM:+0100
TZOFFSETTO:+0200
TZNAME:Europe/Berlin CEST
END:DAYLIGHT
BEGIN:DAYLIGHT
DTSTART:20220327T030000
RDATE:20221030T020000
TZOFFSETFROM:+0100
TZOFFSETTO:+0200
TZNAME:Europe/Berlin CEST
END:DAYLIGHT
BEGIN:DAYLIGHT
DTSTART:20230326T030000
RDATE:20231029T020000
TZOFFSETFROM:+0100
TZOFFSETTO:+0200
TZNAME:Europe/Berlin CEST
END:DAYLIGHT
BEGIN:DAYLIGHT
DTSTART:20240331T030000
RDATE:20241027T020000
TZOFFSETFROM:+0100
TZOFFSETTO:+0200
TZNAME:Europe/Berlin CEST
END:DAYLIGHT
BEGIN:DAYLIGHT
DTSTART:20250330T030000
RDATE:20251026T020000
TZOFFSETFROM:+0100
TZOFFSETTO:+0200
TZNAME:Europe/Berlin CEST
END:DAYLIGHT
BEGIN:DAYLIGHT
DTSTART:20260329T030000
RDATE:20261025T020000
TZOFFSETFROM:+0100
TZOFFSETTO:+0200
TZNAME:Europe/Berlin CEST
END:DAYLIGHT
BEGIN:DAYLIGHT
DTSTART:20270328T030000
RDATE:20271031T020000
TZOFFSETFROM:+0100
TZOFFSETTO:+0200
TZNAME:Europe/Berlin CEST
END:DAYLIGHT
BEGIN:DAYLIGHT
DTSTART:20280326T030000
RDATE:20281029T020000
TZOFFSETFROM:+0100
TZOFFSETTO:+0200
TZNAME:Europe/Berlin CEST
END:DAYLIGHT
BEGIN:DAYLIGHT
DTSTART:20290325T030000
RDATE:20291028T020000
TZOFFSETFROM:+0100
TZOFFSETTO:+0200
TZNAME:Europe/Berlin CEST
END:DAYLIGHT
BEGIN:DAYLIGHT
DTSTART:20300331T030000
RDATE:20301027T020000
TZOFFSETFROM:+0100
TZOFFSETTO:+0200
TZNAME:Europe/Berlin CEST
END:DAYLIGHT
BEGIN:DAYLIGHT
DTSTART:20310330T030000
RDATE:20311026T020000
TZOFFSETFROM:+0100
TZOFFSETTO:+0200
TZNAME:Europe/Berlin CEST
END:DAYLIGHT
END:VTIMEZONE
BEGIN:VEVENT
UID:b19e00d891ba008943eaac07626a865f
CATEGORIES:Gepäck-Touren, Wanderpaddeln, Seekajak-Touren, Sonstiges
CREATED:20191212T224407
SUMMARY:Navigations- und Fahrtenplanungsworkshop für Seekajaker
DESCRIPTION:<p>In Zusammenarbeit mit der Salzwasser Union</p><p>Vermittlung aller Grund
 lagen für die Navigation und Fahrtenplanung auf Tidegewässer, z.B. als Vorb
 ereitung für A3, B4 und B5-Kurse Information und Anmeldung bei<br />Kai Urb
 an <span id="cloaka1fae406df14f6f75b30fe697e1f0be1">Diese E-Mail-Adresse is
 t vor Spambots geschützt! Zur Anzeige muss JavaScript eingeschaltet sein!</
 span><script type='text/javascript'>
				document.getElementById('cloaka1fa
 e406df14f6f75b30fe697e1f0be1').innerHTML = '';
				var prefix = '&#109;a' +
  'i&#108;' + '&#116;o';
				var path = 'hr' + 'ef' + '=';
				var addya1fae
 406df14f6f75b30fe697e1f0be1 = 'k&#97;&#105;-&#117;rb&#97;n' + '&#64;';
				
 addya1fae406df14f6f75b30fe697e1f0be1 = addya1fae406df14f6f75b30fe697e1f0be1
  + 'w&#101;b' + '&#46;' + 'd&#101;';
				var addy_texta1fae406df14f6f75b30f
 e697e1f0be1 = 'k&#97;&#105;-&#117;rb&#97;n' + '&#64;' + 'w&#101;b' + '&#46;
 ' + 'd&#101;';document.getElementById('cloaka1fae406df14f6f75b30fe697e1f0be
 1').innerHTML += '<a ' + path + '\'' + prefix + ':' + addya1fae406df14f6f75
 b30fe697e1f0be1 + '\'>'+addy_texta1fae406df14f6f75b30fe697e1f0be1+'<\/a>';

 		</script> (Betreff: Naviworkshop Schwörstadt)<br />Weitere Informationen 
 nach Anmeldung</p><p>Dieser Workshop richtet sich an alle Paddler mit Inter
 esse an Fahrten auf Küstengewässern auch Tidegewässern.<br />Wir bieten euc
 h einen Workshop bei dem euch alle Fähigkeiten (Verkehrsrecht, Navigation, 
 Umweltschutz mit Testat für EPP3 Küste, Wetter, Fahrtenplanung) vermittelt 
 werden, um auf Küsten-/ Tidegewässern eine Fahrt planen und durchführen zu 
 können.</p><p>Wir haben beim WSV Schwörstadt einen Schulungsraum für die Au
 sbildung zur Verfügung.<br />Es kann auf dem Gelände gezeltet werden und au
 ch im Haus auf Isomatte im Schulungsraum oder im Fitnessraum übernachtet we
 rden.<br />Es steht eine Küche und eine Lagerfeuer/Grillstelle zur Verfügun
 g.<br />Im Haus können verschiedene alkoholische und nichtalkoholische Getr
 änke erworben werden.</p>
CONTACT:Diese E-Mail-Adresse ist vor Spambots geschützt! Zur Anzeige muss JavaScript eingeschaltet sein!
				document.getElementById('cloak4c88b51f628b6683d4a58faad8900b8c').innerHTML = '';
				var prefix = '&#109;a' + 'i&#108;' + '&#116;o';
				var path = 'hr' + 'ef' + '=';
				var addy4c88b51f628b6683d4a58faad8900b8c = '&#97;ndr&#101;&#97;s.c.k&#101;lm' + '&#64;';
				addy4c88b51f628b6683d4a58faad8900b8c = addy4c88b51f628b6683d4a58faad8900b8c + '&#97;rc&#111;r' + '&#46;' + 'd&#101;';
				var addy_text4c88b51f628b6683d4a58faad8900b8c = '&#97;ndr&#101;&#97;s.c.k&#101;lm' + '&#64;' + '&#97;rc&#111;r' + '&#46;' + 'd&#101;';document.getElementById('cloak4c88b51f628b6683d4a58faad8900b8c').innerHTML += '<a ' + path + '\'' + prefix + ':' + addy4c88b51f628b6683d4a58faad8900b8c + '\'>'+addy_text4c88b51f628b6683d4a58faad8900b8c+'';
		
DTSTAMP:20260421T152255
DTSTART;TZID=Europe/Berlin:20200117T193000
DTEND;TZID=Europe/Berlin:20200119T140000
SEQUENCE:0
TRANSP:OPAQUE
END:VEVENT
END:VCALENDAR