BEGIN:VCALENDAR
VERSION:2.0
PRODID:-//jEvents 2.0 for Joomla//EN
CALSCALE:GREGORIAN
METHOD:PUBLISH
BEGIN:VTIMEZONE
TZID:Europe/Berlin
BEGIN:STANDARD
DTSTART:20241027T020000
RDATE:20250330T030000
TZOFFSETFROM:+0200
TZOFFSETTO:+0100
TZNAME:Europe/Berlin CET
END:STANDARD
BEGIN:STANDARD
DTSTART:20251026T020000
RDATE:20260329T030000
TZOFFSETFROM:+0200
TZOFFSETTO:+0100
TZNAME:Europe/Berlin CET
END:STANDARD
BEGIN:STANDARD
DTSTART:20261025T020000
RDATE:20270328T030000
TZOFFSETFROM:+0200
TZOFFSETTO:+0100
TZNAME:Europe/Berlin CET
END:STANDARD
BEGIN:STANDARD
DTSTART:20271031T020000
RDATE:20280326T030000
TZOFFSETFROM:+0200
TZOFFSETTO:+0100
TZNAME:Europe/Berlin CET
END:STANDARD
BEGIN:STANDARD
DTSTART:20281029T020000
RDATE:20290325T030000
TZOFFSETFROM:+0200
TZOFFSETTO:+0100
TZNAME:Europe/Berlin CET
END:STANDARD
BEGIN:STANDARD
DTSTART:20291028T020000
RDATE:20300331T030000
TZOFFSETFROM:+0200
TZOFFSETTO:+0100
TZNAME:Europe/Berlin CET
END:STANDARD
BEGIN:STANDARD
DTSTART:20301027T020000
RDATE:20310330T030000
TZOFFSETFROM:+0200
TZOFFSETTO:+0100
TZNAME:Europe/Berlin CET
END:STANDARD
BEGIN:STANDARD
DTSTART:20311026T020000
RDATE:20320328T030000
TZOFFSETFROM:+0200
TZOFFSETTO:+0100
TZNAME:Europe/Berlin CET
END:STANDARD
BEGIN:DAYLIGHT
DTSTART:20240523T000000
RDATE:20241027T020000
TZOFFSETFROM:+0100
TZOFFSETTO:+0200
TZNAME:Europe/Berlin CEST
END:DAYLIGHT
BEGIN:DAYLIGHT
DTSTART:20250330T030000
RDATE:20251026T020000
TZOFFSETFROM:+0100
TZOFFSETTO:+0200
TZNAME:Europe/Berlin CEST
END:DAYLIGHT
BEGIN:DAYLIGHT
DTSTART:20260329T030000
RDATE:20261025T020000
TZOFFSETFROM:+0100
TZOFFSETTO:+0200
TZNAME:Europe/Berlin CEST
END:DAYLIGHT
BEGIN:DAYLIGHT
DTSTART:20270328T030000
RDATE:20271031T020000
TZOFFSETFROM:+0100
TZOFFSETTO:+0200
TZNAME:Europe/Berlin CEST
END:DAYLIGHT
BEGIN:DAYLIGHT
DTSTART:20280326T030000
RDATE:20281029T020000
TZOFFSETFROM:+0100
TZOFFSETTO:+0200
TZNAME:Europe/Berlin CEST
END:DAYLIGHT
BEGIN:DAYLIGHT
DTSTART:20290325T030000
RDATE:20291028T020000
TZOFFSETFROM:+0100
TZOFFSETTO:+0200
TZNAME:Europe/Berlin CEST
END:DAYLIGHT
BEGIN:DAYLIGHT
DTSTART:20300331T030000
RDATE:20301027T020000
TZOFFSETFROM:+0100
TZOFFSETTO:+0200
TZNAME:Europe/Berlin CEST
END:DAYLIGHT
BEGIN:DAYLIGHT
DTSTART:20310330T030000
RDATE:20311026T020000
TZOFFSETFROM:+0100
TZOFFSETTO:+0200
TZNAME:Europe/Berlin CEST
END:DAYLIGHT
END:VTIMEZONE
BEGIN:VEVENT
UID:4ca51aa5a68cbda76ed95463c1a558c9
CATEGORIES:Wildwasser-Touren, Jugend-Touren
CREATED:20250531T144844
SUMMARY:Jugend-WW-Training Hüningen
DESCRIPTION:Fahrtenleiter: Jugendwarte Diese E-Mail-Adresse ist vor Spambots geschützt!
  Zur Anzeige muss JavaScript eingeschaltet sein!
				document.getElementByI
 d('cloaka905f371abba3c6d1185f2ee14045403').innerHTML = '';
				var prefix =
  '&#109;a' + 'i&#108;' + '&#116;o';
				var path = 'hr' + 'ef' + '=';
				v
 ar addya905f371abba3c6d1185f2ee14045403 = 'j&#117;g&#101;ndw&#97;rt' + '&#6
 4;';
				addya905f371abba3c6d1185f2ee14045403 = addya905f371abba3c6d1185f2e
 e14045403 + 'fff-fr&#101;&#105;b&#117;rg' + '&#46;' + 'd&#101;?s&#117;bj&#1
 01;ct=J&#117;g&#101;nd-WW-Tr&#97;&#105;n&#105;ng%20&#105;n%20H&uuml;n&#105;
 ng&#101;n';
				var addy_texta905f371abba3c6d1185f2ee14045403 = 'J&#101;ss&
 #105; &amp; Ph&#105;l';document.getElementById('cloaka905f371abba3c6d1185f2
 ee14045403').innerHTML += '<a title="E-Mail an Jugendwarte Jessi &amp; Phil
 " ' + path + '\'' + prefix + ':' + addya905f371abba3c6d1185f2ee14045403 + '
 \' target="_blank">'+addy_texta905f371abba3c6d1185f2ee14045403+'';
		\nAnme
 ldung bis: intern in Jugendgruppe\nTraining auf dem WW-Kanal in Hüningen \n
 Wir haben für den Sommer schon mal weitere Trainingstag in Hüningen fest ei
 ngeplant, mit hoffentlich warmen Außen- und Wassertemperatur:\nSonntag, 18.
  Mai und 29. Juni 2025\nEine Teilnahme ist dabei den aktiven Mitgliedern de
 r Jugendgruppe vorbehalten. Etwaige Anfragen beantworten wir dennoch gerne:
  Diese E-Mail-Adresse ist vor Spambots geschützt! Zur Anzeige muss JavaScri
 pt eingeschaltet sein!
				document.getElementById('cloak52d631580ad39cfb5c
 8d025a338bbcb5').innerHTML = '';
				var prefix = '&#109;a' + 'i&#108;' + '
 &#116;o';
				var path = 'hr' + 'ef' + '=';
				var addy52d631580ad39cfb5c8
 d025a338bbcb5 = 'j&#117;g&#101;ndw&#97;rt' + '&#64;';
				addy52d631580ad39
 cfb5c8d025a338bbcb5 = addy52d631580ad39cfb5c8d025a338bbcb5 + 'fff-fr&#101;&
 #105;b&#117;rg' + '&#46;' + 'd&#101;';
				var addy_text52d631580ad39cfb5c8
 d025a338bbcb5 = 'j&#117;g&#101;ndw&#97;rt' + '&#64;' + 'fff-fr&#101;&#105;b
 &#117;rg' + '&#46;' + 'd&#101;';document.getElementById('cloak52d631580ad39
 cfb5c8d025a338bbcb5').innerHTML += '<a title="E-Mail an die Jugendwarte Jes
 si &amp; Phil" ' + path + '\'' + prefix + ':' + addy52d631580ad39cfb5c8d025
 a338bbcb5 + '\' target="_blank">'+addy_text52d631580ad39cfb5c8d025a338bbcb5
 +'';
		\nJessi &amp; Phil\n
X-ALT-DESC;FMTTYPE=text/html:<p style="text-align: right;"><span style="color: #3366ff;"><strong>Fahrten
 leiter:</strong></span> Jugendwarte <span id="cloaka905f371abba3c6d1185f2ee
 14045403">Diese E-Mail-Adresse ist vor Spambots geschützt! Zur Anzeige muss
  JavaScript eingeschaltet sein!</span><script type='text/javascript'>
				d
 ocument.getElementById('cloaka905f371abba3c6d1185f2ee14045403').innerHTML =
  '';
				var prefix = '&#109;a' + 'i&#108;' + '&#116;o';
				var path = 'hr
 ' + 'ef' + '=';
				var addya905f371abba3c6d1185f2ee14045403 = 'j&#117;g&#1
 01;ndw&#97;rt' + '&#64;';
				addya905f371abba3c6d1185f2ee14045403 = addya9
 05f371abba3c6d1185f2ee14045403 + 'fff-fr&#101;&#105;b&#117;rg' + '&#46;' + 
 'd&#101;?s&#117;bj&#101;ct=J&#117;g&#101;nd-WW-Tr&#97;&#105;n&#105;ng%20&#1
 05;n%20H&uuml;n&#105;ng&#101;n';
				var addy_texta905f371abba3c6d1185f2ee1
 4045403 = 'J&#101;ss&#105; &amp; Ph&#105;l';document.getElementById('cloaka
 905f371abba3c6d1185f2ee14045403').innerHTML += '<a title="E-Mail an Jugendw
 arte Jessi &amp; Phil" ' + path + '\'' + prefix + ':' + addya905f371abba3c6
 d1185f2ee14045403 + '\' target="_blank">'+addy_texta905f371abba3c6d1185f2ee
 14045403+'<\/a>';
		</script></p><p><strong>Anmeldung bis:</strong> intern 
 in Jugendgruppe</p><p style="text-align: center;"><strong><span style="font
 -family: comic sans ms, sans-serif; font-size: 18pt;"><span style="color: #
 3366ff;">Training</span> <span style="color: #ff9900;">auf dem</span> <span
  style="color: #800000;">WW-Kanal</span> <span style="color: #008000;">in H
 üningen </span></span></strong></p><p>Wir haben für den Sommer schon mal we
 itere Trainingstag in Hüningen fest eingeplant, mit hoffentlich warmen Auße
 n- und Wassertemperatur:</p><p><strong>Sonntag, 18. Mai und 29. Juni 2025</
 strong></p><p>Eine Teilnahme ist dabei den aktiven Mitgliedern der Jugendgr
 uppe vorbehalten. Etwaige Anfragen beantworten wir dennoch gerne: <span id=
 "cloak52d631580ad39cfb5c8d025a338bbcb5">Diese E-Mail-Adresse ist vor Spambo
 ts geschützt! Zur Anzeige muss JavaScript eingeschaltet sein!</span><script
  type='text/javascript'>
				document.getElementById('cloak52d631580ad39cfb
 5c8d025a338bbcb5').innerHTML = '';
				var prefix = '&#109;a' + 'i&#108;' +
  '&#116;o';
				var path = 'hr' + 'ef' + '=';
				var addy52d631580ad39cfb5
 c8d025a338bbcb5 = 'j&#117;g&#101;ndw&#97;rt' + '&#64;';
				addy52d631580ad
 39cfb5c8d025a338bbcb5 = addy52d631580ad39cfb5c8d025a338bbcb5 + 'fff-fr&#101
 ;&#105;b&#117;rg' + '&#46;' + 'd&#101;';
				var addy_text52d631580ad39cfb5
 c8d025a338bbcb5 = 'j&#117;g&#101;ndw&#97;rt' + '&#64;' + 'fff-fr&#101;&#105
 ;b&#117;rg' + '&#46;' + 'd&#101;';document.getElementById('cloak52d631580ad
 39cfb5c8d025a338bbcb5').innerHTML += '<a title="E-Mail an die Jugendwarte J
 essi &amp; Phil" ' + path + '\'' + prefix + ':' + addy52d631580ad39cfb5c8d0
 25a338bbcb5 + '\' target="_blank">'+addy_text52d631580ad39cfb5c8d025a338bbc
 b5+'<\/a>';
		</script></p><p style="text-align: center;"><span style="font
 -family: comic sans ms, sans-serif; font-size: 14pt;">Jessi &amp; Phil</spa
 n></p>
DTSTAMP:20260422T204101
DTSTART;TZID=Europe/Berlin;VALUE=DATE:20250524
DTEND;TZID=Europe/Berlin;VALUE=DATE:20250525
SEQUENCE:0
TRANSP:OPAQUE
END:VEVENT
END:VCALENDAR