BEGIN:VCALENDAR
VERSION:2.0
PRODID:-//jEvents 2.0 for Joomla//EN
CALSCALE:GREGORIAN
METHOD:PUBLISH
BEGIN:VTIMEZONE
TZID:Europe/Berlin
BEGIN:STANDARD
DTSTART:20211106T190000
RDATE:20220327T030000
TZOFFSETFROM:+0200
TZOFFSETTO:+0100
TZNAME:Europe/Berlin CET
END:STANDARD
BEGIN:STANDARD
DTSTART:20221030T020000
RDATE:20230326T030000
TZOFFSETFROM:+0200
TZOFFSETTO:+0100
TZNAME:Europe/Berlin CET
END:STANDARD
BEGIN:STANDARD
DTSTART:20231029T020000
RDATE:20240331T030000
TZOFFSETFROM:+0200
TZOFFSETTO:+0100
TZNAME:Europe/Berlin CET
END:STANDARD
BEGIN:STANDARD
DTSTART:20241027T020000
RDATE:20250330T030000
TZOFFSETFROM:+0200
TZOFFSETTO:+0100
TZNAME:Europe/Berlin CET
END:STANDARD
BEGIN:STANDARD
DTSTART:20251026T020000
RDATE:20260329T030000
TZOFFSETFROM:+0200
TZOFFSETTO:+0100
TZNAME:Europe/Berlin CET
END:STANDARD
BEGIN:STANDARD
DTSTART:20261025T020000
RDATE:20270328T030000
TZOFFSETFROM:+0200
TZOFFSETTO:+0100
TZNAME:Europe/Berlin CET
END:STANDARD
BEGIN:STANDARD
DTSTART:20271031T020000
RDATE:20280326T030000
TZOFFSETFROM:+0200
TZOFFSETTO:+0100
TZNAME:Europe/Berlin CET
END:STANDARD
BEGIN:STANDARD
DTSTART:20281029T020000
RDATE:20290325T030000
TZOFFSETFROM:+0200
TZOFFSETTO:+0100
TZNAME:Europe/Berlin CET
END:STANDARD
BEGIN:STANDARD
DTSTART:20291028T020000
RDATE:20300331T030000
TZOFFSETFROM:+0200
TZOFFSETTO:+0100
TZNAME:Europe/Berlin CET
END:STANDARD
BEGIN:STANDARD
DTSTART:20301027T020000
RDATE:20310330T030000
TZOFFSETFROM:+0200
TZOFFSETTO:+0100
TZNAME:Europe/Berlin CET
END:STANDARD
BEGIN:STANDARD
DTSTART:20311026T020000
RDATE:20320328T030000
TZOFFSETFROM:+0200
TZOFFSETTO:+0100
TZNAME:Europe/Berlin CET
END:STANDARD
BEGIN:DAYLIGHT
DTSTART:20220327T030000
RDATE:20221030T020000
TZOFFSETFROM:+0100
TZOFFSETTO:+0200
TZNAME:Europe/Berlin CEST
END:DAYLIGHT
BEGIN:DAYLIGHT
DTSTART:20230326T030000
RDATE:20231029T020000
TZOFFSETFROM:+0100
TZOFFSETTO:+0200
TZNAME:Europe/Berlin CEST
END:DAYLIGHT
BEGIN:DAYLIGHT
DTSTART:20240331T030000
RDATE:20241027T020000
TZOFFSETFROM:+0100
TZOFFSETTO:+0200
TZNAME:Europe/Berlin CEST
END:DAYLIGHT
BEGIN:DAYLIGHT
DTSTART:20250330T030000
RDATE:20251026T020000
TZOFFSETFROM:+0100
TZOFFSETTO:+0200
TZNAME:Europe/Berlin CEST
END:DAYLIGHT
BEGIN:DAYLIGHT
DTSTART:20260329T030000
RDATE:20261025T020000
TZOFFSETFROM:+0100
TZOFFSETTO:+0200
TZNAME:Europe/Berlin CEST
END:DAYLIGHT
BEGIN:DAYLIGHT
DTSTART:20270328T030000
RDATE:20271031T020000
TZOFFSETFROM:+0100
TZOFFSETTO:+0200
TZNAME:Europe/Berlin CEST
END:DAYLIGHT
BEGIN:DAYLIGHT
DTSTART:20280326T030000
RDATE:20281029T020000
TZOFFSETFROM:+0100
TZOFFSETTO:+0200
TZNAME:Europe/Berlin CEST
END:DAYLIGHT
BEGIN:DAYLIGHT
DTSTART:20290325T030000
RDATE:20291028T020000
TZOFFSETFROM:+0100
TZOFFSETTO:+0200
TZNAME:Europe/Berlin CEST
END:DAYLIGHT
BEGIN:DAYLIGHT
DTSTART:20300331T030000
RDATE:20301027T020000
TZOFFSETFROM:+0100
TZOFFSETTO:+0200
TZNAME:Europe/Berlin CEST
END:DAYLIGHT
BEGIN:DAYLIGHT
DTSTART:20310330T030000
RDATE:20311026T020000
TZOFFSETFROM:+0100
TZOFFSETTO:+0200
TZNAME:Europe/Berlin CEST
END:DAYLIGHT
END:VTIMEZONE
BEGIN:VEVENT
UID:503634222a2171a4576091e4f425ee63
CATEGORIES:Wanderpaddeln
CREATED:19700101T010000
SUMMARY:Rollen- & Freestyle-Training Schwimmbad
DESCRIPTION:Immer wieder montags...\n      ... treffen wir uns über die kühlen Wintermo
 nate im Schwimmbad Lehen zum Rollen- und Freestyle-Training.\nHinweis: Das 
 Schwimmbad ist im Winter für uns geöffnet; erste Befürchtungen, dass es zu 
 Energiesparzwecken im Winter nicht offen ist, sind vom Tisch. Wir können wi
 e geplant in die Schwimmbad-Saison starten.\nDie genaue Uhrzeit: Beginn: 19
 .00 Uhr, Ende: 21.00 Uhr\nIn der ersten Trainingsstunde stehen die Boote vo
 rwiegend Schülern und Schülerinnen sowie angemeldeten Roll-AnfängerInnen zu
 r Verfügung.\nDie zweite Stunde ist für freies Training mit parallel weiter
 em Rollen-Training.\nWir bitten alle, sich in die ausliegende Liste einzutr
 agen. Nicht-Mitglieder zahlen einen Unkostenbeitrag von 2 Euro für Kinder u
 nd 4 Euro für Erwachsene.\nWir bitten alle, die folgenden Regeln fürs Rolle
 n-Training zu beachten:\n\n - Thema SICHERHEIT: Da auch dieses Jahr in dies
 en beiden Stunden kein Bademeister zur Aufsicht da sein wird, müssen wir au
 f uns selbst aufpassen.\n - In der ersten Trainingsstunde stehen die Boote 
 vorwiegend Schülern und Schülerinnen sowie den Roll-AnfängerInnen zur Verfü
 gung.\n - Bitte achtet auf Kameradschaft: Alle möchten in die Boote, daher 
 kann es nicht sein, dass Einzelne 15 Minuten oder länger ein Boot für sich 
 beanspruchen – in erster Linie ist das Training für Mitglieder des Vereins 
 gedacht.\n - Jedes Boot steht allen Teilnehmern zur Verfügung.\n - Das Ein-
  und Ausbooten ist nur auf der Matte erlaubt.\n - Generell bitte nicht vom 
 Beckenrand ins Wasser springen.Einzeltermine bezüglich des Schwimmbad-Train
 ings über den Winter:\n\n - 31.10.2022: In den Herbstferien bleibt das Schw
 immbad-Training nach heutigen aktuellen Infos leider doch noch geschlossen!
 \n\n - 07.11.2022: Erstes Schwimmbad-Training!\n - 12.12.2022: Das letzte S
 chwimmbad-Training 2022. Danach wird das Schwimmbad renoviert und bleibt bi
 s Anfang Januar 2023 geschlossen.\n - 19.12.2022: Kein Schwimmbad-Training.
 \n - 26.12.2022 und 02.01.2023: Kein Schwimmbad-Training wegen den Schulfer
 ien.\n - 09.01.2023: Erstes Schwimmbad-Training im neuen Jahr.\n - 20.02.20
 23: Rosenmontag ist kein Schwimmbad-Training.\n - 03.04.2023: Letztes Schwi
 mmbad-Training für die Wintersaison. Danach gehen wir wieder an den Opfinge
 r Baggersee.Viel Spaß beim Training und beim Klönen. Ute\n
X-ALT-DESC;FMTTYPE=text/html:<p><span style="font-family: 'comic sans ms', sans-serif; font-size: 18pt;"
 ><strong><span style="color: #3366ff;">Immer wieder montags...</span></stro
 ng></span></p><p>&nbsp;&nbsp;&nbsp;&nbsp;&nbsp; ... treffen wir uns über di
 e kühlen Wintermonate im <strong><span>Schwimmbad Lehen</span></strong> zum
  Rollen- und Freestyle-Training.</p><p>Hinweis: Das Schwimmbad ist im Winte
 r für uns geöffnet; erste Befürchtungen, dass es zu Energiesparzwecken im W
 inter nicht offen ist, sind vom Tisch. Wir können wie geplant in die Schwim
 mbad-Saison starten.</p><p>Die genaue Uhrzeit: <strong>Beginn: 19.00 Uhr</s
 trong>, <strong>Ende: 21.00 Uhr</strong></p><p>In der ersten Trainingsstund
 e stehen die Boote vorwiegend Schülern und Schülerinnen sowie angemeldeten 
 Roll-AnfängerInnen zur Verfügung.</p><p>Die zweite Stunde ist für freies Tr
 aining mit parallel weiterem Rollen-Training.</p><p>Wir bitten alle, sich i
 n die ausliegende Liste einzutragen. Nicht-Mitglieder zahlen einen Unkosten
 beitrag von 2 Euro für Kinder und 4 Euro für Erwachsene.</p><p>Wir bitten a
 lle, die folgenden Regeln fürs Rollen-Training zu beachten:</p><ul><li>Them
 a <strong>SICHERHEIT</strong>: Da auch dieses Jahr in diesen beiden Stunden
  kein Bademeister zur Aufsicht da sein wird, müssen wir auf uns selbst aufp
 assen.</li><li>In der ersten Trainingsstunde stehen die Boote vorwiegend Sc
 hülern und Schülerinnen sowie den Roll-AnfängerInnen zur Verfügung.</li><li
 >Bitte achtet auf <strong>Kameradschaft</strong>: Alle möchten in die Boote
 , daher kann es nicht sein, dass Einzelne 15 Minuten oder länger ein Boot f
 ür sich beanspruchen – in erster Linie ist das Training für Mitglieder des 
 Vereins gedacht.</li><li>Jedes Boot steht allen Teilnehmern zur Verfügung.<
 /li><li>Das Ein- und Ausbooten ist nur auf der Matte erlaubt.</li><li>Gener
 ell bitte nicht vom Beckenrand ins Wasser springen.</li></ul><p><strong><sp
 an><span>Einzeltermine bezüglich des Schwimmbad-Trainings über den Winter:<
 /span></span></strong></p><ul><li><span>31.10.2022: In den Herbstferien ble
 ibt das Schwimmbad-Training nach heutigen aktuellen Infos leider doch noch 
 geschlossen!<br /></span></li><li><span style="color: #800000;">07.11.2022:
  Erstes Schwimmbad-Training!</span></li><li><span>12.12.2022: Das letzte Sc
 hwimmbad-Training 2022. Danach wird das Schwimmbad renoviert und bleibt bis
  Anfang Januar 2023 geschlossen.</span></li><li><span>19.12.2022: Kein Schw
 immbad-Training.</span></li><li><span>26.12.2022 und 02.01.2023: </span><sp
 an>Kein Schwimmbad-Training wegen den Schulferien.</span></li><li><span>09.
 01.2023: Erstes Schwimmbad-Training im neuen Jahr.</span></li><li><span>20.
 02.2023: Rosenmontag ist kein Schwimmbad-Training.</span></li><li><span>03.
 04.2023: Letztes Schwimmbad-Training für die Wintersaison. Danach gehen wir
  wieder an den Opfinger Baggersee.</span></li></ul><p>Viel Spaß beim Traini
 ng und beim Klönen. Ute</p>
DTSTAMP:20260423T003114
DTSTART;TZID=Europe/Berlin:20221107T190000
DTEND;TZID=Europe/Berlin:20221107T210000
SEQUENCE:0
RRULE:FREQ=WEEKLY;UNTIL=20221213T000000Z;INTERVAL=1;BYDAY=MO
TRANSP:OPAQUE
END:VEVENT
END:VCALENDAR