BEGIN:VCALENDAR
VERSION:2.0
PRODID:-//jEvents 2.0 for Joomla//EN
CALSCALE:GREGORIAN
METHOD:PUBLISH
BEGIN:VTIMEZONE
TZID:Europe/Berlin
BEGIN:STANDARD
DTSTART:20211110T190000
RDATE:20220327T030000
TZOFFSETFROM:+0200
TZOFFSETTO:+0100
TZNAME:Europe/Berlin CET
END:STANDARD
BEGIN:STANDARD
DTSTART:20221030T020000
RDATE:20230326T030000
TZOFFSETFROM:+0200
TZOFFSETTO:+0100
TZNAME:Europe/Berlin CET
END:STANDARD
BEGIN:STANDARD
DTSTART:20231029T020000
RDATE:20240331T030000
TZOFFSETFROM:+0200
TZOFFSETTO:+0100
TZNAME:Europe/Berlin CET
END:STANDARD
BEGIN:STANDARD
DTSTART:20241027T020000
RDATE:20250330T030000
TZOFFSETFROM:+0200
TZOFFSETTO:+0100
TZNAME:Europe/Berlin CET
END:STANDARD
BEGIN:STANDARD
DTSTART:20251026T020000
RDATE:20260329T030000
TZOFFSETFROM:+0200
TZOFFSETTO:+0100
TZNAME:Europe/Berlin CET
END:STANDARD
BEGIN:STANDARD
DTSTART:20261025T020000
RDATE:20270328T030000
TZOFFSETFROM:+0200
TZOFFSETTO:+0100
TZNAME:Europe/Berlin CET
END:STANDARD
BEGIN:STANDARD
DTSTART:20271031T020000
RDATE:20280326T030000
TZOFFSETFROM:+0200
TZOFFSETTO:+0100
TZNAME:Europe/Berlin CET
END:STANDARD
BEGIN:STANDARD
DTSTART:20281029T020000
RDATE:20290325T030000
TZOFFSETFROM:+0200
TZOFFSETTO:+0100
TZNAME:Europe/Berlin CET
END:STANDARD
BEGIN:STANDARD
DTSTART:20291028T020000
RDATE:20300331T030000
TZOFFSETFROM:+0200
TZOFFSETTO:+0100
TZNAME:Europe/Berlin CET
END:STANDARD
BEGIN:STANDARD
DTSTART:20301027T020000
RDATE:20310330T030000
TZOFFSETFROM:+0200
TZOFFSETTO:+0100
TZNAME:Europe/Berlin CET
END:STANDARD
BEGIN:STANDARD
DTSTART:20311026T020000
RDATE:20320328T030000
TZOFFSETFROM:+0200
TZOFFSETTO:+0100
TZNAME:Europe/Berlin CET
END:STANDARD
BEGIN:DAYLIGHT
DTSTART:20220327T030000
RDATE:20221030T020000
TZOFFSETFROM:+0100
TZOFFSETTO:+0200
TZNAME:Europe/Berlin CEST
END:DAYLIGHT
BEGIN:DAYLIGHT
DTSTART:20230326T030000
RDATE:20231029T020000
TZOFFSETFROM:+0100
TZOFFSETTO:+0200
TZNAME:Europe/Berlin CEST
END:DAYLIGHT
BEGIN:DAYLIGHT
DTSTART:20240331T030000
RDATE:20241027T020000
TZOFFSETFROM:+0100
TZOFFSETTO:+0200
TZNAME:Europe/Berlin CEST
END:DAYLIGHT
BEGIN:DAYLIGHT
DTSTART:20250330T030000
RDATE:20251026T020000
TZOFFSETFROM:+0100
TZOFFSETTO:+0200
TZNAME:Europe/Berlin CEST
END:DAYLIGHT
BEGIN:DAYLIGHT
DTSTART:20260329T030000
RDATE:20261025T020000
TZOFFSETFROM:+0100
TZOFFSETTO:+0200
TZNAME:Europe/Berlin CEST
END:DAYLIGHT
BEGIN:DAYLIGHT
DTSTART:20270328T030000
RDATE:20271031T020000
TZOFFSETFROM:+0100
TZOFFSETTO:+0200
TZNAME:Europe/Berlin CEST
END:DAYLIGHT
BEGIN:DAYLIGHT
DTSTART:20280326T030000
RDATE:20281029T020000
TZOFFSETFROM:+0100
TZOFFSETTO:+0200
TZNAME:Europe/Berlin CEST
END:DAYLIGHT
BEGIN:DAYLIGHT
DTSTART:20290325T030000
RDATE:20291028T020000
TZOFFSETFROM:+0100
TZOFFSETTO:+0200
TZNAME:Europe/Berlin CEST
END:DAYLIGHT
BEGIN:DAYLIGHT
DTSTART:20300331T030000
RDATE:20301027T020000
TZOFFSETFROM:+0100
TZOFFSETTO:+0200
TZNAME:Europe/Berlin CEST
END:DAYLIGHT
BEGIN:DAYLIGHT
DTSTART:20310330T030000
RDATE:20311026T020000
TZOFFSETFROM:+0100
TZOFFSETTO:+0200
TZNAME:Europe/Berlin CEST
END:DAYLIGHT
END:VTIMEZONE
BEGIN:VEVENT
UID:f24949dd2e9807523c5c28876329f49e
CATEGORIES:Gepäck-Touren, Regio-Touren, Wanderpaddeln, Wildwasser-Touren, Sonstiges, Jugend-Touren
CREATED:20220918T002107
SUMMARY:Filmabend  WW Türkei
DESCRIPTION:Organisator: Diese E-Mail-Adresse ist vor Spambots geschützt! Zur Anzeige m
 uss JavaScript eingeschaltet sein!
				document.getElementById('cloak6b86af
 30637751f5bd7d58afd8f12727').innerHTML = '';
				var prefix = '&#109;a' + '
 i&#108;' + '&#116;o';
				var path = 'hr' + 'ef' + '=';
				var addy6b86af3
 0637751f5bd7d58afd8f12727 = 'v&#111;rst&#97;nd.kl&#101;m&#101;ns' + '&#64;'
 ;
				addy6b86af30637751f5bd7d58afd8f12727 = addy6b86af30637751f5bd7d58afd8
 f12727 + 'fff-fr&#101;&#105;b&#117;rg' + '&#46;' + 'd&#101;?s&#117;bj&#101;
 ct=FFF:%20F&#105;lm&#97;b&#101;nd%20T&uuml;rk&#101;&#105;';
				var addy_te
 xt6b86af30637751f5bd7d58afd8f12727 = 'Kl&#101;m&#101;ns B&#105;nn&#105;ng&#
 101;r';document.getElementById('cloak6b86af30637751f5bd7d58afd8f12727').inn
 erHTML += '<a title="E-Mail an Organisator Klemens" ' + path + '\'' + prefi
 x + ':' + addy6b86af30637751f5bd7d58afd8f12727 + '\' target="_blank">'+addy
 _text6b86af30637751f5bd7d58afd8f12727+'';
		\nVor 35 Jahren reisten 3 FFFle
 r in die Türkei um neues Wildwasser zu erkunden, was Ihnen zweifellos auch 
 gelang. Herausgekommen ist damals ein Super-8-Film, den wir auf eine DVD üb
 erspielt haben. Er erzählt von einer grandiosen Landschaft, freundlichen, n
 eugierigen Menschen und sehr abenteuerlichem Wildwasser, oft im oberen Schw
 ierigkeitsbereich, befahren mit Taifuns.\nWir wagen das Experiment und möch
 ten Euch den Film im unbeheizten Bootshaus zeigen. Also warme Kleider anzie
 hen und zahlreich kommen. Sitzgelegenheiten, Feuerschalen Getränke und eine
 n Grill sind vorhanden. Grillgut bitte selbst mitbringen.\nTermin: Freitag,
  11.11.2022 um 19 Uhr\nOrt: Bootshaus am Opfinger See\nEs laden ein: Ulrich
  Konetznick, Stefan Metz und Klemens Binninger\n \n
X-ALT-DESC;FMTTYPE=text/html:<p style="text-align: right;"><strong><span style="color: #000000;">Organis
 ator:</span></strong> <span id="cloak6b86af30637751f5bd7d58afd8f12727">Dies
 e E-Mail-Adresse ist vor Spambots geschützt! Zur Anzeige muss JavaScript ei
 ngeschaltet sein!</span><script type='text/javascript'>
				document.getEle
 mentById('cloak6b86af30637751f5bd7d58afd8f12727').innerHTML = '';
				var p
 refix = '&#109;a' + 'i&#108;' + '&#116;o';
				var path = 'hr' + 'ef' + '='
 ;
				var addy6b86af30637751f5bd7d58afd8f12727 = 'v&#111;rst&#97;nd.kl&#101
 ;m&#101;ns' + '&#64;';
				addy6b86af30637751f5bd7d58afd8f12727 = addy6b86a
 f30637751f5bd7d58afd8f12727 + 'fff-fr&#101;&#105;b&#117;rg' + '&#46;' + 'd&
 #101;?s&#117;bj&#101;ct=FFF:%20F&#105;lm&#97;b&#101;nd%20T&uuml;rk&#101;&#1
 05;';
				var addy_text6b86af30637751f5bd7d58afd8f12727 = 'Kl&#101;m&#101;n
 s B&#105;nn&#105;ng&#101;r';document.getElementById('cloak6b86af30637751f5b
 d7d58afd8f12727').innerHTML += '<a title="E-Mail an Organisator Klemens" ' 
 + path + '\'' + prefix + ':' + addy6b86af30637751f5bd7d58afd8f12727 + '\' t
 arget="_blank">'+addy_text6b86af30637751f5bd7d58afd8f12727+'<\/a>';
		</scr
 ipt></p><p>Vor 35 Jahren reisten 3 FFFler in die Türkei um neues Wildwasser
  zu erkunden, was Ihnen zweifellos auch gelang. Herausgekommen ist damals e
 in Super-8-Film, den wir auf eine DVD überspielt haben. Er erzählt von eine
 r grandiosen Landschaft, freundlichen, neugierigen Menschen und sehr abente
 uerlichem Wildwasser, oft im oberen Schwierigkeitsbereich, befahren mit Tai
 funs.</p><p>Wir wagen das Experiment und möchten Euch den Film im unbeheizt
 en Bootshaus zeigen. Also warme Kleider anziehen und zahlreich kommen. Sitz
 gelegenheiten, Feuerschalen Getränke und einen Grill sind vorhanden. Grillg
 ut bitte selbst mitbringen.</p><p><span style="color: #3366ff;"><strong>Ter
 min:</strong></span> Freitag, 11.11.2022 um 19 Uhr</p><p><strong><span styl
 e="color: #3366ff;">Ort:</span></strong> Bootshaus am Opfinger See</p><p>Es
  laden ein: Ulrich Konetznick, Stefan Metz und Klemens Binninger</p><p><str
 ong>&nbsp;</strong></p>
DTSTAMP:20260423T004819
DTSTART;TZID=Europe/Berlin:20221111T190000
SEQUENCE:0
TRANSP:OPAQUE
END:VEVENT
END:VCALENDAR