BEGIN:VCALENDAR
VERSION:2.0
PRODID:-//jEvents 2.0 for Joomla//EN
CALSCALE:GREGORIAN
METHOD:PUBLISH
BEGIN:VTIMEZONE
TZID:Europe/Berlin
BEGIN:STANDARD
DTSTART:20211031T020000
RDATE:20220327T030000
TZOFFSETFROM:+0200
TZOFFSETTO:+0100
TZNAME:Europe/Berlin CET
END:STANDARD
BEGIN:STANDARD
DTSTART:20221030T020000
RDATE:20230326T030000
TZOFFSETFROM:+0200
TZOFFSETTO:+0100
TZNAME:Europe/Berlin CET
END:STANDARD
BEGIN:STANDARD
DTSTART:20231029T020000
RDATE:20240331T030000
TZOFFSETFROM:+0200
TZOFFSETTO:+0100
TZNAME:Europe/Berlin CET
END:STANDARD
BEGIN:STANDARD
DTSTART:20241027T020000
RDATE:20250330T030000
TZOFFSETFROM:+0200
TZOFFSETTO:+0100
TZNAME:Europe/Berlin CET
END:STANDARD
BEGIN:STANDARD
DTSTART:20251026T020000
RDATE:20260329T030000
TZOFFSETFROM:+0200
TZOFFSETTO:+0100
TZNAME:Europe/Berlin CET
END:STANDARD
BEGIN:STANDARD
DTSTART:20261025T020000
RDATE:20270328T030000
TZOFFSETFROM:+0200
TZOFFSETTO:+0100
TZNAME:Europe/Berlin CET
END:STANDARD
BEGIN:STANDARD
DTSTART:20271031T020000
RDATE:20280326T030000
TZOFFSETFROM:+0200
TZOFFSETTO:+0100
TZNAME:Europe/Berlin CET
END:STANDARD
BEGIN:STANDARD
DTSTART:20281029T020000
RDATE:20290325T030000
TZOFFSETFROM:+0200
TZOFFSETTO:+0100
TZNAME:Europe/Berlin CET
END:STANDARD
BEGIN:STANDARD
DTSTART:20291028T020000
RDATE:20300331T030000
TZOFFSETFROM:+0200
TZOFFSETTO:+0100
TZNAME:Europe/Berlin CET
END:STANDARD
BEGIN:STANDARD
DTSTART:20301027T020000
RDATE:20310330T030000
TZOFFSETFROM:+0200
TZOFFSETTO:+0100
TZNAME:Europe/Berlin CET
END:STANDARD
BEGIN:STANDARD
DTSTART:20311026T020000
RDATE:20320328T030000
TZOFFSETFROM:+0200
TZOFFSETTO:+0100
TZNAME:Europe/Berlin CET
END:STANDARD
BEGIN:DAYLIGHT
DTSTART:20210925T180000
RDATE:20211031T020000
TZOFFSETFROM:+0100
TZOFFSETTO:+0200
TZNAME:Europe/Berlin CEST
END:DAYLIGHT
BEGIN:DAYLIGHT
DTSTART:20220327T030000
RDATE:20221030T020000
TZOFFSETFROM:+0100
TZOFFSETTO:+0200
TZNAME:Europe/Berlin CEST
END:DAYLIGHT
BEGIN:DAYLIGHT
DTSTART:20230326T030000
RDATE:20231029T020000
TZOFFSETFROM:+0100
TZOFFSETTO:+0200
TZNAME:Europe/Berlin CEST
END:DAYLIGHT
BEGIN:DAYLIGHT
DTSTART:20240331T030000
RDATE:20241027T020000
TZOFFSETFROM:+0100
TZOFFSETTO:+0200
TZNAME:Europe/Berlin CEST
END:DAYLIGHT
BEGIN:DAYLIGHT
DTSTART:20250330T030000
RDATE:20251026T020000
TZOFFSETFROM:+0100
TZOFFSETTO:+0200
TZNAME:Europe/Berlin CEST
END:DAYLIGHT
BEGIN:DAYLIGHT
DTSTART:20260329T030000
RDATE:20261025T020000
TZOFFSETFROM:+0100
TZOFFSETTO:+0200
TZNAME:Europe/Berlin CEST
END:DAYLIGHT
BEGIN:DAYLIGHT
DTSTART:20270328T030000
RDATE:20271031T020000
TZOFFSETFROM:+0100
TZOFFSETTO:+0200
TZNAME:Europe/Berlin CEST
END:DAYLIGHT
BEGIN:DAYLIGHT
DTSTART:20280326T030000
RDATE:20281029T020000
TZOFFSETFROM:+0100
TZOFFSETTO:+0200
TZNAME:Europe/Berlin CEST
END:DAYLIGHT
BEGIN:DAYLIGHT
DTSTART:20290325T030000
RDATE:20291028T020000
TZOFFSETFROM:+0100
TZOFFSETTO:+0200
TZNAME:Europe/Berlin CEST
END:DAYLIGHT
BEGIN:DAYLIGHT
DTSTART:20300331T030000
RDATE:20301027T020000
TZOFFSETFROM:+0100
TZOFFSETTO:+0200
TZNAME:Europe/Berlin CEST
END:DAYLIGHT
BEGIN:DAYLIGHT
DTSTART:20310330T030000
RDATE:20311026T020000
TZOFFSETFROM:+0100
TZOFFSETTO:+0200
TZNAME:Europe/Berlin CEST
END:DAYLIGHT
END:VTIMEZONE
BEGIN:VEVENT
UID:be3315e9347f85d7766cecfae5b9108e
CATEGORIES:Wanderpaddeln, Wildwasser-Touren, Jugend-Touren
CREATED:20220915T162048
SUMMARY:Freestyle Training beim Weltmeister!
DESCRIPTION:Ansprechpartnerin: Diese E-Mail-Adresse ist vor Spambots geschützt! Zur Anz
 eige muss JavaScript eingeschaltet sein!
				document.getElementById('cloak
 8db2776293b599374d0e8322733f2008').innerHTML = '';
				var prefix = '&#109;
 a' + 'i&#108;' + '&#116;o';
				var path = 'hr' + 'ef' + '=';
				var addy8
 db2776293b599374d0e8322733f2008 = 'v&#111;rst&#97;nd.n&#97;dj&#97;' + '&#64
 ;';
				addy8db2776293b599374d0e8322733f2008 = addy8db2776293b599374d0e8322
 733f2008 + 'fff-fr&#101;&#105;b&#117;rg' + '&#46;' + 'd&#101;?s&#117;bj&#10
 1;ct=FFF:%20Fr&#101;&#101;styl&#101;-Tr&#97;&#105;n&#105;ng%20m&#105;t%20W&
 #101;ltm&#101;&#105;st&#101;r%20&#97;m%2026' + '&#46;' + '09' + '&#46;' + '
 ';
				var addy_text8db2776293b599374d0e8322733f2008 = 'N&#97;dj&#97; W&#10
 5;ch&#101;r';document.getElementById('cloak8db2776293b599374d0e8322733f2008
 ').innerHTML += '<a title="E-Mail an Organisatorin des Freestyle-Trainings 
 mit dem Weltmeister" ' + path + '\'' + prefix + ':' + addy8db2776293b599374
 d0e8322733f2008 + '\' target="_blank">'+addy_text8db2776293b599374d0e832273
 3f2008+'';
		\nHallo zusammen,\nam 26.9. (18 Uhr) findet am Opfinger See ei
 n Freestyle-Training mit Thomas Dimke, dem frischgekürten Kajak-Freestyle W
 eltmeister statt.\nAlle sind willkommen! Groß und klein, Anfänger und Fortg
 eschrittene. Es gibt ein Paar Vereinsboote, aber es wäre von Vorteil, dein 
 eigenes mitzubringen.\nWir sehen uns am See, euer FFF bzw. eure Nadja\n
X-ALT-DESC;FMTTYPE=text/html:<p style="text-align: right;"><strong>Ansprechpartnerin:</strong> <span id=
 "cloak8db2776293b599374d0e8322733f2008">Diese E-Mail-Adresse ist vor Spambo
 ts geschützt! Zur Anzeige muss JavaScript eingeschaltet sein!</span><script
  type='text/javascript'>
				document.getElementById('cloak8db2776293b59937
 4d0e8322733f2008').innerHTML = '';
				var prefix = '&#109;a' + 'i&#108;' +
  '&#116;o';
				var path = 'hr' + 'ef' + '=';
				var addy8db2776293b599374
 d0e8322733f2008 = 'v&#111;rst&#97;nd.n&#97;dj&#97;' + '&#64;';
				addy8db2
 776293b599374d0e8322733f2008 = addy8db2776293b599374d0e8322733f2008 + 'fff-
 fr&#101;&#105;b&#117;rg' + '&#46;' + 'd&#101;?s&#117;bj&#101;ct=FFF:%20Fr&#
 101;&#101;styl&#101;-Tr&#97;&#105;n&#105;ng%20m&#105;t%20W&#101;ltm&#101;&#
 105;st&#101;r%20&#97;m%2026' + '&#46;' + '09' + '&#46;' + '';
				var addy_
 text8db2776293b599374d0e8322733f2008 = 'N&#97;dj&#97; W&#105;ch&#101;r';doc
 ument.getElementById('cloak8db2776293b599374d0e8322733f2008').innerHTML += 
 '<a title="E-Mail an Organisatorin des Freestyle-Trainings mit dem Weltmeis
 ter" ' + path + '\'' + prefix + ':' + addy8db2776293b599374d0e8322733f2008 
 + '\' target="_blank">'+addy_text8db2776293b599374d0e8322733f2008+'<\/a>';

 		</script></p><p>Hallo zusammen,</p><p>am 26.9. (18 Uhr) findet am Opfinge
 r See ein Freestyle-Training mit Thomas Dimke, dem frischgekürten Kajak-Fre
 estyle Weltmeister statt.</p><p>Alle sind willkommen! Groß und klein, Anfän
 ger und Fortgeschrittene. Es gibt ein Paar Vereinsboote, aber es wäre von V
 orteil, dein eigenes mitzubringen.</p><p>Wir sehen uns am See, euer FFF bzw
 . eure Nadja</p>
DTSTAMP:20260422T014752
DTSTART;TZID=Europe/Berlin:20220926T180000
DTEND;TZID=Europe/Berlin:20220926T200000
SEQUENCE:0
TRANSP:OPAQUE
END:VEVENT
END:VCALENDAR