BEGIN:VCALENDAR
VERSION:2.0
PRODID:-//jEvents 2.0 for Joomla//EN
CALSCALE:GREGORIAN
METHOD:PUBLISH
BEGIN:VTIMEZONE
TZID:Europe/Berlin
BEGIN:STANDARD
DTSTART:20211111T190000
RDATE:20220327T030000
TZOFFSETFROM:+0200
TZOFFSETTO:+0100
TZNAME:Europe/Berlin CET
END:STANDARD
BEGIN:STANDARD
DTSTART:20221030T020000
RDATE:20230326T030000
TZOFFSETFROM:+0200
TZOFFSETTO:+0100
TZNAME:Europe/Berlin CET
END:STANDARD
BEGIN:STANDARD
DTSTART:20231029T020000
RDATE:20240331T030000
TZOFFSETFROM:+0200
TZOFFSETTO:+0100
TZNAME:Europe/Berlin CET
END:STANDARD
BEGIN:STANDARD
DTSTART:20241027T020000
RDATE:20250330T030000
TZOFFSETFROM:+0200
TZOFFSETTO:+0100
TZNAME:Europe/Berlin CET
END:STANDARD
BEGIN:STANDARD
DTSTART:20251026T020000
RDATE:20260329T030000
TZOFFSETFROM:+0200
TZOFFSETTO:+0100
TZNAME:Europe/Berlin CET
END:STANDARD
BEGIN:STANDARD
DTSTART:20261025T020000
RDATE:20270328T030000
TZOFFSETFROM:+0200
TZOFFSETTO:+0100
TZNAME:Europe/Berlin CET
END:STANDARD
BEGIN:STANDARD
DTSTART:20271031T020000
RDATE:20280326T030000
TZOFFSETFROM:+0200
TZOFFSETTO:+0100
TZNAME:Europe/Berlin CET
END:STANDARD
BEGIN:STANDARD
DTSTART:20281029T020000
RDATE:20290325T030000
TZOFFSETFROM:+0200
TZOFFSETTO:+0100
TZNAME:Europe/Berlin CET
END:STANDARD
BEGIN:STANDARD
DTSTART:20291028T020000
RDATE:20300331T030000
TZOFFSETFROM:+0200
TZOFFSETTO:+0100
TZNAME:Europe/Berlin CET
END:STANDARD
BEGIN:STANDARD
DTSTART:20301027T020000
RDATE:20310330T030000
TZOFFSETFROM:+0200
TZOFFSETTO:+0100
TZNAME:Europe/Berlin CET
END:STANDARD
BEGIN:STANDARD
DTSTART:20311026T020000
RDATE:20320328T030000
TZOFFSETFROM:+0200
TZOFFSETTO:+0100
TZNAME:Europe/Berlin CET
END:STANDARD
BEGIN:DAYLIGHT
DTSTART:20220327T030000
RDATE:20221030T020000
TZOFFSETFROM:+0100
TZOFFSETTO:+0200
TZNAME:Europe/Berlin CEST
END:DAYLIGHT
BEGIN:DAYLIGHT
DTSTART:20230326T030000
RDATE:20231029T020000
TZOFFSETFROM:+0100
TZOFFSETTO:+0200
TZNAME:Europe/Berlin CEST
END:DAYLIGHT
BEGIN:DAYLIGHT
DTSTART:20240331T030000
RDATE:20241027T020000
TZOFFSETFROM:+0100
TZOFFSETTO:+0200
TZNAME:Europe/Berlin CEST
END:DAYLIGHT
BEGIN:DAYLIGHT
DTSTART:20250330T030000
RDATE:20251026T020000
TZOFFSETFROM:+0100
TZOFFSETTO:+0200
TZNAME:Europe/Berlin CEST
END:DAYLIGHT
BEGIN:DAYLIGHT
DTSTART:20260329T030000
RDATE:20261025T020000
TZOFFSETFROM:+0100
TZOFFSETTO:+0200
TZNAME:Europe/Berlin CEST
END:DAYLIGHT
BEGIN:DAYLIGHT
DTSTART:20270328T030000
RDATE:20271031T020000
TZOFFSETFROM:+0100
TZOFFSETTO:+0200
TZNAME:Europe/Berlin CEST
END:DAYLIGHT
BEGIN:DAYLIGHT
DTSTART:20280326T030000
RDATE:20281029T020000
TZOFFSETFROM:+0100
TZOFFSETTO:+0200
TZNAME:Europe/Berlin CEST
END:DAYLIGHT
BEGIN:DAYLIGHT
DTSTART:20290325T030000
RDATE:20291028T020000
TZOFFSETFROM:+0100
TZOFFSETTO:+0200
TZNAME:Europe/Berlin CEST
END:DAYLIGHT
BEGIN:DAYLIGHT
DTSTART:20300331T030000
RDATE:20301027T020000
TZOFFSETFROM:+0100
TZOFFSETTO:+0200
TZNAME:Europe/Berlin CEST
END:DAYLIGHT
BEGIN:DAYLIGHT
DTSTART:20310330T030000
RDATE:20311026T020000
TZOFFSETFROM:+0100
TZOFFSETTO:+0200
TZNAME:Europe/Berlin CEST
END:DAYLIGHT
END:VTIMEZONE
BEGIN:VEVENT
UID:dcaceb92def179f4b078ecbce127cc5f
CATEGORIES:Sonstiges
CREATED:20220214T013101
SUMMARY:Jahresrückblick in Bildern
LOCATION:Bootshaus am Opfinger See
DESCRIPTION:Organisator: Vorstand, Diese E-Mail-Adresse ist vor Spambots geschützt! Zur
  Anzeige muss JavaScript eingeschaltet sein!
				document.getElementById('c
 loakee416a3a59a7e78d4771b9f6ea4f4f9a').innerHTML = '';
				var prefix = '&#
 109;a' + 'i&#108;' + '&#116;o';
				var path = 'hr' + 'ef' + '=';
				var a
 ddyee416a3a59a7e78d4771b9f6ea4f4f9a = 'v&#111;rst&#97;nd.kl&#101;m&#101;ns'
  + '&#64;';
				addyee416a3a59a7e78d4771b9f6ea4f4f9a = addyee416a3a59a7e78d
 4771b9f6ea4f4f9a + 'fff-fr&#101;&#105;b&#117;rg' + '&#46;' + 'd&#101;?s&#11
 7;bj&#101;ct=FFF-J&#97;hr&#101;sr&uuml;ckbl&#105;ck%2012' + '&#46;' + '11' 
 + '&#46;' + '2022';
				var addy_textee416a3a59a7e78d4771b9f6ea4f4f9a = 'Kl
 &#101;m&#101;ns';document.getElementById('cloakee416a3a59a7e78d4771b9f6ea4f
 4f9a').innerHTML += '<a title="E-Mail an Organisator Klemens" ' + path + '\
 '' + prefix + ':' + addyee416a3a59a7e78d4771b9f6ea4f4f9a + '\' target="_bla
 nk">'+addy_textee416a3a59a7e78d4771b9f6ea4f4f9a+'';
		\nTraditionsgemäß möc
 hten wir das Jahr in Bildern ausklingen lassen. Jeder, der schöne Paddelbil
 der oder Filme insb. von Vereinsaktivitäten (oder auch privaten Ausfahrten)
  hat, soll die gerne mitbringen und der Allgemeinheit zeigen.\nBeamer und L
 einwand sind vom Vortag noch vorhanden.\nWie am Vorabend werden wir auch he
 ute wieder Energie sparen und die Bilder/ Filme im unbeheizten Bootshaus ze
 igen. Also warme Kleider anziehen und zahlreich kommen. Sitzgelegenheiten, 
 Feuerschalen Kalt- und Warmgetränke und einen Grill sind vorhanden. Grillgu
 t bitte selbst mitbringen.\nOrt: Bootshaus am Opfinger See\nEs laden ein: d
 er Vorstand des FFF\nFragen/ Anregungen bitte an Klemens 0163 8329384 oder 
 per E-Mail Diese E-Mail-Adresse ist vor Spambots geschützt! Zur Anzeige mus
 s JavaScript eingeschaltet sein!
				document.getElementById('cloak1d335694
 92bc2fa63d627a18c2721a62').innerHTML = '';
				var prefix = '&#109;a' + 'i&
 #108;' + '&#116;o';
				var path = 'hr' + 'ef' + '=';
				var addy1d3356949
 2bc2fa63d627a18c2721a62 = 'v&#111;rst&#97;nd.kl&#101;m&#101;ns' + '&#64;';

 				addy1d33569492bc2fa63d627a18c2721a62 = addy1d33569492bc2fa63d627a18c272
 1a62 + 'fff-fr&#101;&#105;b&#117;rg' + '&#46;' + 'd&#101;?s&#117;bj&#101;ct
 =FFF-J&#97;hr&#101;sr&uuml;ckbl&#105;ck%2012' + '&#46;' + '11' + '&#46;' + 
 '2022';
				var addy_text1d33569492bc2fa63d627a18c2721a62 = 'v&#111;rst&#97
 ;nd.kl&#101;m&#101;ns' + '&#64;' + 'fff-fr&#101;&#105;b&#117;rg' + '&#46;' 
 + 'd&#101;';document.getElementById('cloak1d33569492bc2fa63d627a18c2721a62'
 ).innerHTML += '<a title="E-Mail an Organisator Klemens" ' + path + '\'' + 
 prefix + ':' + addy1d33569492bc2fa63d627a18c2721a62 + '\' target="_blank">'
 +addy_text1d33569492bc2fa63d627a18c2721a62+'';
		\n \n \n
X-ALT-DESC;FMTTYPE=text/html:<p style="text-align: right;"><strong><span style="color: #3366ff;">Organis
 ator:</span></strong> Vorstand, <span id="cloakee416a3a59a7e78d4771b9f6ea4f
 4f9a">Diese E-Mail-Adresse ist vor Spambots geschützt! Zur Anzeige muss Jav
 aScript eingeschaltet sein!</span><script type='text/javascript'>
				docum
 ent.getElementById('cloakee416a3a59a7e78d4771b9f6ea4f4f9a').innerHTML = '';
 
				var prefix = '&#109;a' + 'i&#108;' + '&#116;o';
				var path = 'hr' + 
 'ef' + '=';
				var addyee416a3a59a7e78d4771b9f6ea4f4f9a = 'v&#111;rst&#97;
 nd.kl&#101;m&#101;ns' + '&#64;';
				addyee416a3a59a7e78d4771b9f6ea4f4f9a =
  addyee416a3a59a7e78d4771b9f6ea4f4f9a + 'fff-fr&#101;&#105;b&#117;rg' + '&#
 46;' + 'd&#101;?s&#117;bj&#101;ct=FFF-J&#97;hr&#101;sr&uuml;ckbl&#105;ck%20
 12' + '&#46;' + '11' + '&#46;' + '2022';
				var addy_textee416a3a59a7e78d4
 771b9f6ea4f4f9a = 'Kl&#101;m&#101;ns';document.getElementById('cloakee416a3
 a59a7e78d4771b9f6ea4f4f9a').innerHTML += '<a title="E-Mail an Organisator K
 lemens" ' + path + '\'' + prefix + ':' + addyee416a3a59a7e78d4771b9f6ea4f4f
 9a + '\' target="_blank">'+addy_textee416a3a59a7e78d4771b9f6ea4f4f9a+'<\/a>
 ';
		</script></p><p>Traditionsgemäß möchten wir das Jahr in Bildern auskli
 ngen lassen. Jeder, der schöne Paddelbilder oder Filme insb. von Vereinsakt
 ivitäten (oder auch privaten Ausfahrten) hat, soll die gerne mitbringen und
  der Allgemeinheit zeigen.</p><p>Beamer und Leinwand sind vom Vortag noch v
 orhanden.</p><p>Wie am Vorabend werden wir auch heute wieder Energie sparen
  und die Bilder/ Filme im unbeheizten Bootshaus zeigen. Also warme Kleider 
 anziehen und zahlreich kommen. Sitzgelegenheiten, Feuerschalen Kalt- und Wa
 rmgetränke und einen Grill sind vorhanden. Grillgut bitte selbst mitbringen
 .</p><p>Ort: Bootshaus am Opfinger See</p><p>Es laden ein: der Vorstand des
  FFF</p><p>Fragen/ Anregungen bitte an Klemens 0163 8329384 oder per E-Mail
  <span id="cloak1d33569492bc2fa63d627a18c2721a62">Diese E-Mail-Adresse ist 
 vor Spambots geschützt! Zur Anzeige muss JavaScript eingeschaltet sein!</sp
 an><script type='text/javascript'>
				document.getElementById('cloak1d3356
 9492bc2fa63d627a18c2721a62').innerHTML = '';
				var prefix = '&#109;a' + '
 i&#108;' + '&#116;o';
				var path = 'hr' + 'ef' + '=';
				var addy1d33569
 492bc2fa63d627a18c2721a62 = 'v&#111;rst&#97;nd.kl&#101;m&#101;ns' + '&#64;'
 ;
				addy1d33569492bc2fa63d627a18c2721a62 = addy1d33569492bc2fa63d627a18c2
 721a62 + 'fff-fr&#101;&#105;b&#117;rg' + '&#46;' + 'd&#101;?s&#117;bj&#101;
 ct=FFF-J&#97;hr&#101;sr&uuml;ckbl&#105;ck%2012' + '&#46;' + '11' + '&#46;' 
 + '2022';
				var addy_text1d33569492bc2fa63d627a18c2721a62 = 'v&#111;rst&#
 97;nd.kl&#101;m&#101;ns' + '&#64;' + 'fff-fr&#101;&#105;b&#117;rg' + '&#46;
 ' + 'd&#101;';document.getElementById('cloak1d33569492bc2fa63d627a18c2721a6
 2').innerHTML += '<a title="E-Mail an Organisator Klemens" ' + path + '\'' 
 + prefix + ':' + addy1d33569492bc2fa63d627a18c2721a62 + '\' target="_blank"
 >'+addy_text1d33569492bc2fa63d627a18c2721a62+'<\/a>';
		</script></p><p>&nb
 sp;</p><p>&nbsp;</p>
DTSTAMP:20260423T064559
DTSTART;TZID=Europe/Berlin:20221112T190000
SEQUENCE:0
TRANSP:OPAQUE
END:VEVENT
END:VCALENDAR