BEGIN:VCALENDAR
VERSION:2.0
PRODID:-//jEvents 2.0 for Joomla//EN
CALSCALE:GREGORIAN
METHOD:PUBLISH
BEGIN:VTIMEZONE
TZID:Europe/Berlin
BEGIN:STANDARD
DTSTART:20211031T020000
RDATE:20220327T030000
TZOFFSETFROM:+0200
TZOFFSETTO:+0100
TZNAME:Europe/Berlin CET
END:STANDARD
BEGIN:STANDARD
DTSTART:20221030T020000
RDATE:20230326T030000
TZOFFSETFROM:+0200
TZOFFSETTO:+0100
TZNAME:Europe/Berlin CET
END:STANDARD
BEGIN:STANDARD
DTSTART:20231029T020000
RDATE:20240331T030000
TZOFFSETFROM:+0200
TZOFFSETTO:+0100
TZNAME:Europe/Berlin CET
END:STANDARD
BEGIN:STANDARD
DTSTART:20241027T020000
RDATE:20250330T030000
TZOFFSETFROM:+0200
TZOFFSETTO:+0100
TZNAME:Europe/Berlin CET
END:STANDARD
BEGIN:STANDARD
DTSTART:20251026T020000
RDATE:20260329T030000
TZOFFSETFROM:+0200
TZOFFSETTO:+0100
TZNAME:Europe/Berlin CET
END:STANDARD
BEGIN:STANDARD
DTSTART:20261025T020000
RDATE:20270328T030000
TZOFFSETFROM:+0200
TZOFFSETTO:+0100
TZNAME:Europe/Berlin CET
END:STANDARD
BEGIN:STANDARD
DTSTART:20271031T020000
RDATE:20280326T030000
TZOFFSETFROM:+0200
TZOFFSETTO:+0100
TZNAME:Europe/Berlin CET
END:STANDARD
BEGIN:STANDARD
DTSTART:20281029T020000
RDATE:20290325T030000
TZOFFSETFROM:+0200
TZOFFSETTO:+0100
TZNAME:Europe/Berlin CET
END:STANDARD
BEGIN:STANDARD
DTSTART:20291028T020000
RDATE:20300331T030000
TZOFFSETFROM:+0200
TZOFFSETTO:+0100
TZNAME:Europe/Berlin CET
END:STANDARD
BEGIN:STANDARD
DTSTART:20301027T020000
RDATE:20310330T030000
TZOFFSETFROM:+0200
TZOFFSETTO:+0100
TZNAME:Europe/Berlin CET
END:STANDARD
BEGIN:STANDARD
DTSTART:20311026T020000
RDATE:20320328T030000
TZOFFSETFROM:+0200
TZOFFSETTO:+0100
TZNAME:Europe/Berlin CET
END:STANDARD
BEGIN:DAYLIGHT
DTSTART:20210819T000000
RDATE:20211031T020000
TZOFFSETFROM:+0100
TZOFFSETTO:+0200
TZNAME:Europe/Berlin CEST
END:DAYLIGHT
BEGIN:DAYLIGHT
DTSTART:20220327T030000
RDATE:20221030T020000
TZOFFSETFROM:+0100
TZOFFSETTO:+0200
TZNAME:Europe/Berlin CEST
END:DAYLIGHT
BEGIN:DAYLIGHT
DTSTART:20230326T030000
RDATE:20231029T020000
TZOFFSETFROM:+0100
TZOFFSETTO:+0200
TZNAME:Europe/Berlin CEST
END:DAYLIGHT
BEGIN:DAYLIGHT
DTSTART:20240331T030000
RDATE:20241027T020000
TZOFFSETFROM:+0100
TZOFFSETTO:+0200
TZNAME:Europe/Berlin CEST
END:DAYLIGHT
BEGIN:DAYLIGHT
DTSTART:20250330T030000
RDATE:20251026T020000
TZOFFSETFROM:+0100
TZOFFSETTO:+0200
TZNAME:Europe/Berlin CEST
END:DAYLIGHT
BEGIN:DAYLIGHT
DTSTART:20260329T030000
RDATE:20261025T020000
TZOFFSETFROM:+0100
TZOFFSETTO:+0200
TZNAME:Europe/Berlin CEST
END:DAYLIGHT
BEGIN:DAYLIGHT
DTSTART:20270328T030000
RDATE:20271031T020000
TZOFFSETFROM:+0100
TZOFFSETTO:+0200
TZNAME:Europe/Berlin CEST
END:DAYLIGHT
BEGIN:DAYLIGHT
DTSTART:20280326T030000
RDATE:20281029T020000
TZOFFSETFROM:+0100
TZOFFSETTO:+0200
TZNAME:Europe/Berlin CEST
END:DAYLIGHT
BEGIN:DAYLIGHT
DTSTART:20290325T030000
RDATE:20291028T020000
TZOFFSETFROM:+0100
TZOFFSETTO:+0200
TZNAME:Europe/Berlin CEST
END:DAYLIGHT
BEGIN:DAYLIGHT
DTSTART:20300331T030000
RDATE:20301027T020000
TZOFFSETFROM:+0100
TZOFFSETTO:+0200
TZNAME:Europe/Berlin CEST
END:DAYLIGHT
BEGIN:DAYLIGHT
DTSTART:20310330T030000
RDATE:20311026T020000
TZOFFSETFROM:+0100
TZOFFSETTO:+0200
TZNAME:Europe/Berlin CEST
END:DAYLIGHT
END:VTIMEZONE
BEGIN:VEVENT
UID:b15ed0f69b884abab97b2c0f8f65ff2c
CATEGORIES:Mehrtages-Touren, Gepäck-Touren, Seekajak-Touren
CREATED:20211128T164220
SUMMARY:FFF-Elbe-Tour
DESCRIPTION:Fahrtenleiter: Diese E-Mail-Adresse ist vor Spambots geschützt! Zur Anzeige
  muss JavaScript eingeschaltet sein!
				document.getElementById('cloak491c
 c901d9755dc1052cffe3d5aed9eb').innerHTML = '';
				var prefix = '&#109;a' +
  'i&#108;' + '&#116;o';
				var path = 'hr' + 'ef' + '=';
				var addy491cc
 901d9755dc1052cffe3d5aed9eb = 's&#101;&#101;k&#97;j&#97;k' + '&#64;';
				a
 ddy491cc901d9755dc1052cffe3d5aed9eb = addy491cc901d9755dc1052cffe3d5aed9eb 
 + 'fff-fr&#101;&#105;b&#117;rg' + '&#46;' + 'd&#101;?s&#117;bj&#101;ct=FFF-
 Elb&#101;-T&#111;&#117;r';
				var addy_text491cc901d9755dc1052cffe3d5aed9e
 b = 'Andr&#101;&#97;s K&#101;lm';document.getElementById('cloak491cc901d975
 5dc1052cffe3d5aed9eb').innerHTML += '<a title="E-Mail an Seekajak-Wart" ' +
  path + '\'' + prefix + ':' + addy491cc901d9755dc1052cffe3d5aed9eb + '\' ta
 rget="_blank">'+addy_text491cc901d9755dc1052cffe3d5aed9eb+'';
		 (Seekajak-
 Wart), Tel. 0170/90 21 088, und Gabi Weisser\nDiese Fahrtenausschreibung ri
 chtet sich vornehmlich an unsere eher noch unerfahrenen Mitglieder, die ger
 n den nächsten Entwicklungsschritt vom behüteten Opfinger-See und Bächen de
 r Regio zu einer moderaten Gepäckwanderfahrt wagen möchten. Wir wollen die 
 wechselvolle, schöne Elbe zwischen der tschechischen Grenze (Krippen) und M
 agdeburg mit all ihren historischen und landschaftlichen Schönheiten entdec
 ken.\nGeplanter Tourverlauf:\n\n - Samstag 20.08. Anreise nach Stadt Wehlen
  und Lageraufbau mit gegenseitigem Kennenlernen\n - Sonntag 21.08. mit dem 
 Auto nach Krippen (dort Autos parken) und dann erste Etappe bis Stadt Wehle
 n 16 km\n - Montag 22.08. Stadt Wehlen bis Dresden 24 km\n - Dienstag 23.08
 . Besichtigungstag Dresden (Semperoper, Zwinger, Altstadt, Elbufer et al.)\
 n - Mittwoch 24.08. Dresden - Coswig (Sachsen) 24 km\n - Donnerstag 25.08. 
 Coswig (Sachsen) – Riesa 37 km\n - Freitag 26.08. Riesa – Mühlberg 18 km\n 
 - Samstag 27.08. Mühlberg – Torgau 28 km\n - Sonntag 28.8. Torgau – Elster 
 45 km\n - Montag 29.08. Elster – Lutherstadt Wittenberg 13 km\n - Dienstag 
 30.08. Wittenberg - Coswig (Anhalt) 23 km\n - Mittwoch 31.08. Coswig (Anhal
 t) – Dessau 24 km\n - Donnerstag 01.09. Dessau – Barby 30 km\n - Freitag 02
 .09. Barby - Magdeburg Börde 33 km\n - Samstag 03.09. Autofahrer holen per 
 Zug die Fzg. nach, die anderen haben Zeit Magdeburg zu erkunden\n - Sonntag
  04.09. Rückfahrt nach FreiburgWas brauche ich als Teilnehmer:\n\n - Boot, 
 Paddel, Rettungsweste und Spritzdecke kann beim Verein geliehen werden\n - 
 Zelt, Schlafsack, Isomatte, Gaskocher für den Morgenkaffee und die ein oder
  andere kleine warme Mahlzeit\n - Wasserdichte Packsäcke für die Wechselanz
 iehsachen (ggf. auch mal Stadtfein!)\n - Sonnencreme und Kopfbedeckung: Wir
  fahren im August!\n - Jeweils Tagesverpflegung und Getränke (wir können me
 istens vor Ort ein wenig einkaufen / Abends gibt es häufig die Möglichkeit 
 im Ort Essen zu gehen und manchmal im Vereinsheim eine Kleinigkeit zu sich 
 zunehmen)\n - Stirn- oder Taschenlampe\n - persönliche MedikamenteUnterkunf
 t ist in der Regel auf Zeltwiesen bei Kanu- / Rudervereinen (Kosten übliche
 rweise 4- 6 € pro Nacht). Diese Vereine bieten hierbei zumeist Wasch-, Toil
 etten und Duschmöglichkeiten.\nWenn alles klappt, haben wir insgesamt 315 k
 m ohne Umtragen auf der gemütlich strömenden Elbe durch drei Bundesländer e
 rlebt!\nVerbindliche Anmeldung bis Sonntag 10. Juli 2022 notwendig! Es gibt
  keine zu spät gekommene, sondern nur Zurückgebliebene! Es handelt sich hie
 rbei um eine Mittelpaddelgelegenheit in Eigenverantwortung, aber unter seeb
 efähigter Leitung. Jeder trägt seine Kosten für Unterkunft und Verpflegung 
 selber. Fahrgemeinschaften können gebildet werden. Nähere Infos und prinzip
 ielle Interessensbekundungen gern per Telefon oder Mail.\nEs gilt der Haftu
 ngsausschluss der Salzwasser Union und des FFF.\nIch nehme maximal 8 Teilne
 hmer mit! Frühzeitigere Anmeldung gern gesehen, da: Wenn voll, dann voll!\n
 Auf einen sonnigen Urlaub auf der Elbe freuen sich\n                       
             euer Seekajakwart Andreas Kelm &amp; Gabi Weisser\n
X-ALT-DESC;FMTTYPE=text/html:<p style="text-align: right;"><strong>Fahrtenleiter:</strong> <span id="clo
 ak491cc901d9755dc1052cffe3d5aed9eb">Diese E-Mail-Adresse ist vor Spambots g
 eschützt! Zur Anzeige muss JavaScript eingeschaltet sein!</span><script typ
 e='text/javascript'>
				document.getElementById('cloak491cc901d9755dc1052c
 ffe3d5aed9eb').innerHTML = '';
				var prefix = '&#109;a' + 'i&#108;' + '&#
 116;o';
				var path = 'hr' + 'ef' + '=';
				var addy491cc901d9755dc1052cf
 fe3d5aed9eb = 's&#101;&#101;k&#97;j&#97;k' + '&#64;';
				addy491cc901d9755
 dc1052cffe3d5aed9eb = addy491cc901d9755dc1052cffe3d5aed9eb + 'fff-fr&#101;&
 #105;b&#117;rg' + '&#46;' + 'd&#101;?s&#117;bj&#101;ct=FFF-Elb&#101;-T&#111
 ;&#117;r';
				var addy_text491cc901d9755dc1052cffe3d5aed9eb = 'Andr&#101;&
 #97;s K&#101;lm';document.getElementById('cloak491cc901d9755dc1052cffe3d5ae
 d9eb').innerHTML += '<a title="E-Mail an Seekajak-Wart" ' + path + '\'' + p
 refix + ':' + addy491cc901d9755dc1052cffe3d5aed9eb + '\' target="_blank">'+
 addy_text491cc901d9755dc1052cffe3d5aed9eb+'<\/a>';
		</script> (Seekajak-Wa
 rt), Tel. 0170/90 21 088, und Gabi Weisser</p><p>Diese Fahrtenausschreibung
  richtet sich vornehmlich an unsere eher noch unerfahrenen Mitglieder, die 
 gern den nächsten Entwicklungsschritt vom behüteten Opfinger-See und Bächen
  der Regio zu einer moderaten Gepäckwanderfahrt wagen möchten. Wir wollen d
 ie wechselvolle, schöne Elbe zwischen der tschechischen Grenze (Krippen) un
 d Magdeburg mit all ihren historischen und landschaftlichen Schönheiten ent
 decken.</p><p><strong>Geplanter Tourverlauf:</strong></p><ul><li>Samstag 20
 .08. Anreise nach Stadt Wehlen und Lageraufbau mit gegenseitigem Kennenlern
 en</li><li>Sonntag 21.08. mit dem Auto nach Krippen (dort Autos parken) und
  dann erste Etappe bis Stadt Wehlen 16 km</li><li>Montag 22.08. Stadt Wehle
 n bis Dresden 24 km</li><li>Dienstag 23.08. Besichtigungstag Dresden (Sempe
 roper, Zwinger, Altstadt, Elbufer et al.)</li><li>Mittwoch 24.08. Dresden -
  Coswig (Sachsen) 24 km</li><li>Donnerstag 25.08. Coswig (Sachsen) – Riesa 
 37 km</li><li>Freitag 26.08. Riesa – Mühlberg 18 km</li><li>Samstag 27.08. 
 Mühlberg – Torgau 28 km</li><li>Sonntag 28.8. Torgau – Elster 45 km</li><li
 >Montag 29.08. Elster – Lutherstadt Wittenberg 13 km</li><li>Dienstag 30.08
 . Wittenberg - Coswig (Anhalt) 23 km</li><li>Mittwoch 31.08. Coswig (Anhalt
 ) – Dessau 24 km</li><li>Donnerstag 01.09. Dessau – Barby 30 km</li><li>Fre
 itag 02.09. Barby - Magdeburg Börde 33 km</li><li>Samstag 03.09. Autofahrer
  holen per Zug die Fzg. nach, die anderen haben Zeit Magdeburg zu erkunden<
 /li><li>Sonntag 04.09. Rückfahrt nach Freiburg</li></ul><p><strong>Was brau
 che ich als Teilnehmer:</strong></p><ul><li>Boot, Paddel, Rettungsweste und
  Spritzdecke kann beim Verein geliehen werden</li><li>Zelt, Schlafsack, Iso
 matte, Gaskocher für den Morgenkaffee und die ein oder andere kleine warme 
 Mahlzeit</li><li>Wasserdichte Packsäcke für die Wechselanziehsachen (ggf. a
 uch mal Stadtfein!)</li><li>Sonnencreme und Kopfbedeckung: Wir fahren im Au
 gust!</li><li>Jeweils Tagesverpflegung und Getränke (wir können meistens vo
 r Ort ein wenig einkaufen / Abends gibt es häufig die Möglichkeit im Ort Es
 sen zu gehen und manchmal im Vereinsheim eine Kleinigkeit zu sich zunehmen)
 </li><li>Stirn- oder Taschenlampe</li><li>persönliche Medikamente</li></ul>
 <p>Unterkunft ist in der Regel auf Zeltwiesen bei Kanu- / Rudervereinen (Ko
 sten üblicherweise 4- 6 € pro Nacht). Diese Vereine bieten hierbei zumeist 
 Wasch-, Toiletten und Duschmöglichkeiten.</p><p>Wenn alles klappt, haben wi
 r insgesamt 315 km ohne Umtragen auf der gemütlich strömenden Elbe durch dr
 ei Bundesländer erlebt!</p><p><strong>Verbindliche Anmeldung bis Sonntag 10
 . Juli 2022 notwendig!</strong> Es gibt keine zu spät gekommene, sondern nu
 r Zurückgebliebene! Es handelt sich hierbei um eine Mittelpaddelgelegenheit
  in Eigenverantwortung, aber unter seebefähigter Leitung. Jeder trägt seine
  Kosten für Unterkunft und Verpflegung selber. Fahrgemeinschaften können ge
 bildet werden. Nähere Infos und prinzipielle Interessensbekundungen gern pe
 r Telefon oder Mail.</p><p>Es gilt der Haftungsausschluss der Salzwasser Un
 ion und des FFF.</p><p>Ich nehme maximal 8 Teilnehmer mit! Frühzeitigere An
 meldung gern gesehen, da: Wenn voll, dann voll!</p><p>Auf einen sonnigen Ur
 laub auf der Elbe freuen sich</p><p>                                   euer
  Seekajakwart Andreas Kelm &amp; Gabi Weisser</p>
DTSTAMP:20260421T182404
DTSTART;TZID=Europe/Berlin;VALUE=DATE:20220820
DTEND;TZID=Europe/Berlin;VALUE=DATE:20220905
SEQUENCE:0
TRANSP:OPAQUE
END:VEVENT
END:VCALENDAR