BEGIN:VCALENDAR
VERSION:2.0
PRODID:-//jEvents 2.0 for Joomla//EN
CALSCALE:GREGORIAN
METHOD:PUBLISH
BEGIN:VTIMEZONE
TZID:Europe/Berlin
BEGIN:STANDARD
DTSTART:20241027T020000
RDATE:20250330T030000
TZOFFSETFROM:+0200
TZOFFSETTO:+0100
TZNAME:Europe/Berlin CET
END:STANDARD
BEGIN:STANDARD
DTSTART:20251026T020000
RDATE:20260329T030000
TZOFFSETFROM:+0200
TZOFFSETTO:+0100
TZNAME:Europe/Berlin CET
END:STANDARD
BEGIN:STANDARD
DTSTART:20261025T020000
RDATE:20270328T030000
TZOFFSETFROM:+0200
TZOFFSETTO:+0100
TZNAME:Europe/Berlin CET
END:STANDARD
BEGIN:STANDARD
DTSTART:20271031T020000
RDATE:20280326T030000
TZOFFSETFROM:+0200
TZOFFSETTO:+0100
TZNAME:Europe/Berlin CET
END:STANDARD
BEGIN:STANDARD
DTSTART:20281029T020000
RDATE:20290325T030000
TZOFFSETFROM:+0200
TZOFFSETTO:+0100
TZNAME:Europe/Berlin CET
END:STANDARD
BEGIN:STANDARD
DTSTART:20291028T020000
RDATE:20300331T030000
TZOFFSETFROM:+0200
TZOFFSETTO:+0100
TZNAME:Europe/Berlin CET
END:STANDARD
BEGIN:STANDARD
DTSTART:20301027T020000
RDATE:20310330T030000
TZOFFSETFROM:+0200
TZOFFSETTO:+0100
TZNAME:Europe/Berlin CET
END:STANDARD
BEGIN:STANDARD
DTSTART:20311026T020000
RDATE:20320328T030000
TZOFFSETFROM:+0200
TZOFFSETTO:+0100
TZNAME:Europe/Berlin CET
END:STANDARD
BEGIN:DAYLIGHT
DTSTART:20240801T000000
RDATE:20241027T020000
TZOFFSETFROM:+0100
TZOFFSETTO:+0200
TZNAME:Europe/Berlin CEST
END:DAYLIGHT
BEGIN:DAYLIGHT
DTSTART:20250330T030000
RDATE:20251026T020000
TZOFFSETFROM:+0100
TZOFFSETTO:+0200
TZNAME:Europe/Berlin CEST
END:DAYLIGHT
BEGIN:DAYLIGHT
DTSTART:20260329T030000
RDATE:20261025T020000
TZOFFSETFROM:+0100
TZOFFSETTO:+0200
TZNAME:Europe/Berlin CEST
END:DAYLIGHT
BEGIN:DAYLIGHT
DTSTART:20270328T030000
RDATE:20271031T020000
TZOFFSETFROM:+0100
TZOFFSETTO:+0200
TZNAME:Europe/Berlin CEST
END:DAYLIGHT
BEGIN:DAYLIGHT
DTSTART:20280326T030000
RDATE:20281029T020000
TZOFFSETFROM:+0100
TZOFFSETTO:+0200
TZNAME:Europe/Berlin CEST
END:DAYLIGHT
BEGIN:DAYLIGHT
DTSTART:20290325T030000
RDATE:20291028T020000
TZOFFSETFROM:+0100
TZOFFSETTO:+0200
TZNAME:Europe/Berlin CEST
END:DAYLIGHT
BEGIN:DAYLIGHT
DTSTART:20300331T030000
RDATE:20301027T020000
TZOFFSETFROM:+0100
TZOFFSETTO:+0200
TZNAME:Europe/Berlin CEST
END:DAYLIGHT
BEGIN:DAYLIGHT
DTSTART:20310330T030000
RDATE:20311026T020000
TZOFFSETFROM:+0100
TZOFFSETTO:+0200
TZNAME:Europe/Berlin CEST
END:DAYLIGHT
END:VTIMEZONE
BEGIN:VEVENT
UID:0fe03f4b8e0b286b329ef0c9dfdb21a8
CATEGORIES:Mehrtages-Touren, Wildwasser-Touren
CREATED:20250531T154959
SUMMARY:KanuBW: WW-Woche an der Durance
DESCRIPTION:Ansprechpartner: KVBW - Felix Hunzinger (E-Mail:  (mailto:ww-freizeit@kanu-
 bw.de)Diese E-Mail-Adresse ist vor Spambots geschützt! Zur Anzeige muss Jav
 aScript eingeschaltet sein!
				document.getElementById('cloak00ce7399ab35e
 e1313b616b69bd8cc24').innerHTML = '';
				var prefix = '&#109;a' + 'i&#108;
 ' + '&#116;o';
				var path = 'hr' + 'ef' + '=';
				var addy00ce7399ab35ee
 1313b616b69bd8cc24 = 'ww-fr&#101;&#105;z&#101;&#105;t' + '&#64;';
				addy0
 0ce7399ab35ee1313b616b69bd8cc24 = addy00ce7399ab35ee1313b616b69bd8cc24 + 'k
 &#97;n&#117;-bw' + '&#46;' + 'd&#101;?s&#117;bj&#101;ct=W&#105;ldw&#97;ss&#
 101;r-W&#111;ch&#101;%20&#97;n%20d&#101;r%20D&#117;r&#97;nc&#101;';
				var
  addy_text00ce7399ab35ee1313b616b69bd8cc24 = 'ww-fr&#101;&#105;z&#101;&#105
 ;t' + '&#64;' + 'k&#97;n&#117;-bw' + '&#46;' + 'd&#101;';document.getElemen
 tById('cloak00ce7399ab35ee1313b616b69bd8cc24').innerHTML += '<a title="E-Ma
 il an Ansprechpartner des KanuBW" ' + path + '\'' + prefix + ':' + addy00ce
 7399ab35ee1313b616b69bd8cc24 + '\' target="_blank">'+addy_text00ce7399ab35e
 e1313b616b69bd8cc24+'';
		)\nIn den Sommerferien noch kein Kajak-Ziel? Komm
  doch mit zur …\n13. Wildwasser-Woche des KVBW\n02.08. bis 09.08.2025 im Ta
 l der Durance (F)\nDie Wildwasser-Woche des KVBW jährt sich, nach langer Tr
 adition im ehemals Badischen Kanuverband, dieses Jahr zum 13. Mal. Sie ist 
 jeher ein Garant für eine tolle Woche mit netten Gleichgesinnten, viel Spaß
 , etlichen Lernerfolgen und traumhaftem Wetter in den französischen Alpen f
 ür alle Beteiligten. Im Unterschied zu vielen kommerziellen Anbietern steht
  bei uns nicht nur das Befahren zahlreicher Flüsse im Vordergrund. Wir lege
 n großen Wert auf die Schulung vielseitiger Wildwasser-Techniken, die unser
 en Teilnehmern zu mehr Sicherheit und Routine im Wildwasser verhelfen.\nDas
  KVBW-Lehrteam sorgt in kleinen Gruppen für jede Menge Spaß, aber auch für 
 die notwendige Ernsthaftigkeit in der Ausbildung der Teilnehmer (ab 14 Jahr
 en). Von Tipps &amp; Tricks beim Thema Sicherheit, über das einfache Kehrwa
 sserfahren in jeder Situation, bis hin zum sicheren Dahingleiten auf den Fl
 üssen – es wird alles auf den verschiedensten Schwierigkeitsgraden (bis WW 
 4) geschult und geübt. So ist für jeden Paddler mit Vorkenntnissen etwas ge
 boten.\nDoch bitte beachtet: Für Paddler ohne Vorkenntnisse ist diese Veran
 staltung nicht gedacht bzw. nicht geeignet, sie sollten mindestens Kenntnis
 se aus dem Bereich des Wanderfahrens oder dem Rennsport mitbringen!\nIntere
 ssantes zur WW-Woche …\n\n - Auch an unsere kleinen Paddler wird wieder ged
 acht: So bieten wir eine Kindergruppe für Kinder im Alter von 9 bis 13 Jahr
 en an. Im Vordergrund dieser Gruppe steht es jedoch nicht, möglichst viele 
 Flüsse und Flusskilometer zu absolvieren, sondern die Kids spielerisch und 
 mit Spaß an die Materie Kajak zu gewöhnen bzw. darin zu festigen. Um die Ki
 nder nicht zu überfordern und ihnen zumindest im Vorhinein einen ersten Ein
 druck des bewegten Wassers zu vermitteln, ist zuvor eine Teilnahme an der V
 eranstaltung „Kanu Fun &amp; Action“ der Jugendabteilung des KVBW erforderl
 ich!Der Kinderkurs an der WW-Woche kann nur stattfinden, wenn der Transport
  der Kinder und ihrer Ausrüstung während der Woche durch die Eltern gewährl
 eistet ist und es genügend Anmeldungen gibt.\n\n - Veranstaltungsort ist de
 r „Camping Club Municipal Des Iscles“ in Eygliers (www.aucampingdulac.fr (h
 ttps://www.aucampingdulac.fr)). Dieser Ort bietet auch für unsere „Nichtpad
 dler“ einen sehr guten Ausgangspunkt für Touren mit dem Fahrrad oder zu Fuß
 , für Sightseeing- oder Rafting-Touren. Direkt am Cam­ping­platz befindet s
 ich auch ein Badesee mit diversen Freizeitmöglichkeiten für Jung und Alt.\n
  - Der Startschuss zur Woche fällt bewährter Weise am Sonntagmorgen, den 03
 . August 2025 um 9:30 Uhr mit der Begrüßung, der Bekanntgabe des Kursverlau
 fs, Vor­stellung des Lehrteams und der Einteilung in die Gruppen. Somit ist
  der komplette Samstag (02.08.2025) als Anreisetag nutzbar. Der letzte Kurs
 tag ist Samstag, der 09. August 2025.Anmeldungen für die Wildwasser-Woche w
 erden nur über das offizielle Formular angenommen. Der Unkosten­beitrag für
  jeden Kursteil­nehmer über 18 Jahr beträgt 170.- €, \n für Kinder und Juge
 ndliche unter 18 Jahren 120.- €.\nFür Kinder unter 18 Jahren ist eine Einve
 rständniserklärung der/des Erziehungsberechtigten erforderlich. \nWeitere D
 etails zu WW-Woche …\n\n - wie Teilnahmebedingungen, Materialliste, Einvers
 tändniserklärung und anderes findest Du auf der Homepage des KanuBW unter k
 anu-bw.de.\n - Link zur Anmeldung: https://anmeldung.amarin.de (https://anm
 eldung.amarin.de)Das gesamte Lehrteam des KVBW freut sich auf Euch und eine
  schöne Woche.\nMit sportlichem Ahoi,\nFelix Hunzinger\nKVBW Beauftragter W
 ildwasserfreizeitsport\nInselstr. 23, 76189 Karlsruhe\nTel.: +49 (0) 162 / 
 970 65 05, E-Mail: Diese E-Mail-Adresse ist vor Spambots geschützt! Zur Anz
 eige muss JavaScript eingeschaltet sein!
				document.getElementById('cloak
 026503ce9c4594e6d638f9f7e8a829f0').innerHTML = '';
				var prefix = '&#109;
 a' + 'i&#108;' + '&#116;o';
				var path = 'hr' + 'ef' + '=';
				var addy0
 26503ce9c4594e6d638f9f7e8a829f0 = 'ww-fr&#101;&#105;z&#101;&#105;t' + '&#64
 ;';
				addy026503ce9c4594e6d638f9f7e8a829f0 = addy026503ce9c4594e6d638f9f7
 e8a829f0 + 'k&#97;n&#117;-bw' + '&#46;' + 'd&#101;';
				var addy_text02650
 3ce9c4594e6d638f9f7e8a829f0 = 'ww-fr&#101;&#105;z&#101;&#105;t' + '&#64;' +
  'k&#97;n&#117;-bw' + '&#46;' + 'd&#101;';document.getElementById('cloak026
 503ce9c4594e6d638f9f7e8a829f0').innerHTML += '<a ' + path + '\'' + prefix +
  ':' + addy026503ce9c4594e6d638f9f7e8a829f0 + '\'>'+addy_text026503ce9c4594
 e6d638f9f7e8a829f0+'';
		\n \n \n
X-ALT-DESC;FMTTYPE=text/html:<p style="text-align: right;"><strong>Ansprechpartner:</strong> KVBW - Feli
 x Hunzinger (E-Mail: <span id="cloak64fd8b2728e4ce991e2be2faa2345920"><a hr
 ef="mailto:ww-freizeit@kanu-bw.de"></a><span id="cloak00ce7399ab35ee1313b61
 6b69bd8cc24">Diese E-Mail-Adresse ist vor Spambots geschützt! Zur Anzeige m
 uss JavaScript eingeschaltet sein!</span><script type='text/javascript'>
		
 		document.getElementById('cloak00ce7399ab35ee1313b616b69bd8cc24').innerHTM
 L = '';
				var prefix = '&#109;a' + 'i&#108;' + '&#116;o';
				var path = 
 'hr' + 'ef' + '=';
				var addy00ce7399ab35ee1313b616b69bd8cc24 = 'ww-fr&#1
 01;&#105;z&#101;&#105;t' + '&#64;';
				addy00ce7399ab35ee1313b616b69bd8cc2
 4 = addy00ce7399ab35ee1313b616b69bd8cc24 + 'k&#97;n&#117;-bw' + '&#46;' + '
 d&#101;?s&#117;bj&#101;ct=W&#105;ldw&#97;ss&#101;r-W&#111;ch&#101;%20&#97;n
 %20d&#101;r%20D&#117;r&#97;nc&#101;';
				var addy_text00ce7399ab35ee1313b6
 16b69bd8cc24 = 'ww-fr&#101;&#105;z&#101;&#105;t' + '&#64;' + 'k&#97;n&#117;
 -bw' + '&#46;' + 'd&#101;';document.getElementById('cloak00ce7399ab35ee1313
 b616b69bd8cc24').innerHTML += '<a title="E-Mail an Ansprechpartner des Kanu
 BW" ' + path + '\'' + prefix + ':' + addy00ce7399ab35ee1313b616b69bd8cc24 +
  '\' target="_blank">'+addy_text00ce7399ab35ee1313b616b69bd8cc24+'<\/a>';
	
 	</script></span>)</p><p>In den Sommerferien noch kein Kajak-Ziel? Komm doc
 h mit zur …</p><p style="text-align: center;"><span style="font-family: com
 ic sans ms, sans-serif; font-size: 18pt;"><strong><span style="color: #3366
 ff;">13. Wildwasser-Woche </span><span style="color: #ff9900;">des KVBW</sp
 an></strong></span></p><p style="text-align: center;"><strong>02.08. bis 09
 .08.2025 im Tal der Durance (F)</strong></p><p>Die Wildwasser-Woche des KVB
 W jährt sich, nach langer Tradition im ehemals Badischen Kanuverband, diese
 s Jahr zum 13. Mal. Sie ist jeher ein Garant für eine tolle Woche mit nette
 n Gleichgesinnten, viel Spaß, etlichen Lernerfolgen und traumhaftem Wetter 
 in den französischen Alpen für alle Beteiligten. Im Unterschied zu vielen k
 ommerziellen Anbietern steht bei uns nicht nur das Befahren zahlreicher Flü
 sse im Vordergrund. Wir legen großen Wert auf die Schulung vielseitiger Wil
 dwasser-Techniken, die unseren Teilnehmern zu mehr Sicherheit und Routine i
 m Wildwasser verhelfen.</p><p>Das KVBW-Lehrteam sorgt in kleinen Gruppen fü
 r jede Menge Spaß, aber auch für die notwendige Ernsthaftigkeit in der Ausb
 ildung der Teilnehmer (ab 14 Jahren). Von Tipps &amp; Tricks beim Thema Sic
 herheit, über das einfache Kehrwasserfahren in jeder Situation, bis hin zum
  sicheren Dahingleiten auf den Flüssen – es wird alles auf den verschiedens
 ten Schwierigkeitsgraden (bis WW 4) geschult und geübt. So ist für jeden Pa
 ddler mit Vorkenntnissen etwas geboten.</p><p><strong>Doch bitte beachtet:<
 /strong> Für Paddler ohne Vorkenntnisse ist diese Veranstaltung nicht gedac
 ht bzw. nicht geeignet, sie sollten mindestens Kenntnisse aus dem Bereich d
 es Wanderfahrens oder dem Rennsport mitbringen!</p><p><span style="color: #
 3366ff; font-size: 14pt;"><strong>Interessantes zur WW-Woche …</strong></sp
 an></p><ul><li><strong>Auch an unsere kleinen Paddler wird wieder gedacht: 
 </strong>So bieten wir eine Kindergruppe für Kinder im Alter von 9 bis 13 J
 ahren an. Im Vordergrund dieser Gruppe steht es jedoch nicht, möglichst vie
 le Flüsse und Flusskilometer zu absolvieren, sondern die Kids spielerisch u
 nd mit Spaß an die Materie Kajak zu gewöhnen bzw. darin zu festigen. <stron
 g>Um die Kinder nicht zu überfordern und ihnen zumindest im Vorhinein einen
  ersten Eindruck des bewegten Wassers zu vermitteln, ist zuvor eine Teilnah
 me an der Veranstaltung „Kanu Fun &amp; Action“ der Jugendabteilung des KVB
 W erforderlich!</strong></li></ul><p>Der Kinderkurs an der WW-Woche kann nu
 r stattfinden, wenn der Transport der Kinder und ihrer Ausrüstung während d
 er Woche durch die Eltern gewährleistet ist und es genügend Anmeldungen gib
 t.</p><ul><li><strong>Veranstaltungsort</strong> ist der „Camping Club Muni
 cipal Des Iscles“ in Eygliers (<a title="Campingplatz, auf dem die WW-Woche
  an der Durance des KanuBW stattfindet" href="https://www.aucampingdulac.fr
 " target="_blank" rel="noopener"><strong>www.aucampingdulac.fr</strong></a>
 ). Dieser Ort bietet auch für unsere „Nichtpaddler“ einen sehr guten Ausgan
 gspunkt für Touren mit dem Fahrrad oder zu Fuß, für Sightseeing- oder Rafti
 ng-Touren. Direkt am Cam­ping­platz befindet sich auch ein Badesee mit dive
 rsen Freizeitmöglichkeiten für Jung und Alt.</li></ul><ul><li>Der <strong>S
 tartschuss</strong> zur Woche fällt bewährter Weise am Sonntagmorgen, den 0
 3. August 2025 um 9:30 Uhr mit der Begrüßung, der Bekanntgabe des Kursverla
 ufs, Vor­stellung des Lehrteams und der Einteilung in die Gruppen. Somit is
 t der komplette Samstag (02.08.2025) als Anreisetag nutzbar. Der letzte Kur
 stag ist Samstag, der 09. August 2025.</li></ul><p><strong>Anmeldungen </st
 rong>für die Wildwasser-Woche werden nur über das offizielle Formular angen
 ommen. Der Unkosten­beitrag für jeden Kursteil­nehmer über 18 Jahr beträgt 
 170.-&nbsp;€, <br /> für Kinder und Jugendliche unter 18 Jahren 120.-&nbsp;
 €.</p><p><strong>Für Kinder unter 18 Jahren ist eine Einverständniserklärun
 g der/des Erziehungsberechtigten erforderlich. </strong></p><p><strong>Weit
 ere Details zu WW-Woche</strong> …</p><ul><li>wie Teilnahmebedingungen, Mat
 erialliste, Einverständniserklärung und anderes findest Du auf der Homepage
  des KanuBW unter <strong>kanu-bw.de</strong>.</li><li>Link zur Anmeldung: 
 <strong><a title="Link zur Anmeldung zur WW-Woche an der Durance des KanuBW
 " href="https://anmeldung.amarin.de" target="_blank" rel="noopener">https:/
 /anmeldung.amarin.de</a></strong></li></ul><p>Das gesamte Lehrteam des KVBW
  freut sich auf Euch und eine schöne Woche.</p><p>Mit sportlichem Ahoi,</p>
 <p><span style="font-family: comic sans ms, sans-serif;">Felix Hunzinger</s
 pan></p><p>KVBW Beauftragter Wildwasserfreizeitsport</p><p>Inselstr. 23, 76
 189 Karlsruhe</p><p>Tel.: +49 (0) 162 / 970 65 05, E-Mail: <strong><span id
 ="cloak026503ce9c4594e6d638f9f7e8a829f0">Diese E-Mail-Adresse ist vor Spamb
 ots geschützt! Zur Anzeige muss JavaScript eingeschaltet sein!</span><scrip
 t type='text/javascript'>
				document.getElementById('cloak026503ce9c4594e
 6d638f9f7e8a829f0').innerHTML = '';
				var prefix = '&#109;a' + 'i&#108;' 
 + '&#116;o';
				var path = 'hr' + 'ef' + '=';
				var addy026503ce9c4594e6
 d638f9f7e8a829f0 = 'ww-fr&#101;&#105;z&#101;&#105;t' + '&#64;';
				addy026
 503ce9c4594e6d638f9f7e8a829f0 = addy026503ce9c4594e6d638f9f7e8a829f0 + 'k&#
 97;n&#117;-bw' + '&#46;' + 'd&#101;';
				var addy_text026503ce9c4594e6d638
 f9f7e8a829f0 = 'ww-fr&#101;&#105;z&#101;&#105;t' + '&#64;' + 'k&#97;n&#117;
 -bw' + '&#46;' + 'd&#101;';document.getElementById('cloak026503ce9c4594e6d6
 38f9f7e8a829f0').innerHTML += '<a ' + path + '\'' + prefix + ':' + addy0265
 03ce9c4594e6d638f9f7e8a829f0 + '\'>'+addy_text026503ce9c4594e6d638f9f7e8a82
 9f0+'<\/a>';
		</script></strong></p><p>&nbsp;</p><p>&nbsp;</p>
DTSTAMP:20260422T223402
DTSTART;TZID=Europe/Berlin;VALUE=DATE:20250802
DTEND;TZID=Europe/Berlin;VALUE=DATE:20250803
SEQUENCE:0
TRANSP:OPAQUE
END:VEVENT
END:VCALENDAR