BEGIN:VCALENDAR
VERSION:2.0
PRODID:-//jEvents 2.0 for Joomla//EN
CALSCALE:GREGORIAN
METHOD:PUBLISH
BEGIN:VTIMEZONE
TZID:Europe/Berlin
BEGIN:STANDARD
DTSTART:20241027T020000
RDATE:20250330T030000
TZOFFSETFROM:+0200
TZOFFSETTO:+0100
TZNAME:Europe/Berlin CET
END:STANDARD
BEGIN:STANDARD
DTSTART:20251026T020000
RDATE:20260329T030000
TZOFFSETFROM:+0200
TZOFFSETTO:+0100
TZNAME:Europe/Berlin CET
END:STANDARD
BEGIN:STANDARD
DTSTART:20261025T020000
RDATE:20270328T030000
TZOFFSETFROM:+0200
TZOFFSETTO:+0100
TZNAME:Europe/Berlin CET
END:STANDARD
BEGIN:STANDARD
DTSTART:20271031T020000
RDATE:20280326T030000
TZOFFSETFROM:+0200
TZOFFSETTO:+0100
TZNAME:Europe/Berlin CET
END:STANDARD
BEGIN:STANDARD
DTSTART:20281029T020000
RDATE:20290325T030000
TZOFFSETFROM:+0200
TZOFFSETTO:+0100
TZNAME:Europe/Berlin CET
END:STANDARD
BEGIN:STANDARD
DTSTART:20291028T020000
RDATE:20300331T030000
TZOFFSETFROM:+0200
TZOFFSETTO:+0100
TZNAME:Europe/Berlin CET
END:STANDARD
BEGIN:STANDARD
DTSTART:20301027T020000
RDATE:20310330T030000
TZOFFSETFROM:+0200
TZOFFSETTO:+0100
TZNAME:Europe/Berlin CET
END:STANDARD
BEGIN:STANDARD
DTSTART:20311026T020000
RDATE:20320328T030000
TZOFFSETFROM:+0200
TZOFFSETTO:+0100
TZNAME:Europe/Berlin CET
END:STANDARD
BEGIN:DAYLIGHT
DTSTART:20240528T000000
RDATE:20241027T020000
TZOFFSETFROM:+0100
TZOFFSETTO:+0200
TZNAME:Europe/Berlin CEST
END:DAYLIGHT
BEGIN:DAYLIGHT
DTSTART:20250330T030000
RDATE:20251026T020000
TZOFFSETFROM:+0100
TZOFFSETTO:+0200
TZNAME:Europe/Berlin CEST
END:DAYLIGHT
BEGIN:DAYLIGHT
DTSTART:20260329T030000
RDATE:20261025T020000
TZOFFSETFROM:+0100
TZOFFSETTO:+0200
TZNAME:Europe/Berlin CEST
END:DAYLIGHT
BEGIN:DAYLIGHT
DTSTART:20270328T030000
RDATE:20271031T020000
TZOFFSETFROM:+0100
TZOFFSETTO:+0200
TZNAME:Europe/Berlin CEST
END:DAYLIGHT
BEGIN:DAYLIGHT
DTSTART:20280326T030000
RDATE:20281029T020000
TZOFFSETFROM:+0100
TZOFFSETTO:+0200
TZNAME:Europe/Berlin CEST
END:DAYLIGHT
BEGIN:DAYLIGHT
DTSTART:20290325T030000
RDATE:20291028T020000
TZOFFSETFROM:+0100
TZOFFSETTO:+0200
TZNAME:Europe/Berlin CEST
END:DAYLIGHT
BEGIN:DAYLIGHT
DTSTART:20300331T030000
RDATE:20301027T020000
TZOFFSETFROM:+0100
TZOFFSETTO:+0200
TZNAME:Europe/Berlin CEST
END:DAYLIGHT
BEGIN:DAYLIGHT
DTSTART:20310330T030000
RDATE:20311026T020000
TZOFFSETFROM:+0100
TZOFFSETTO:+0200
TZNAME:Europe/Berlin CEST
END:DAYLIGHT
END:VTIMEZONE
BEGIN:VEVENT
UID:66049f5fa5f79f0b4ad19561a7dbe2b4
CATEGORIES:Mehrtages-Touren, Wildwasser-Touren
CREATED:20250511T000302
SUMMARY:WW-Ausfahrt WW II-III der Hüningen-Trainingsgruppe
DESCRIPTION:Fahrtenleiterin: Diese E-Mail-Adresse ist vor Spambots geschützt! Zur Anzei
 ge muss JavaScript eingeschaltet sein!
				document.getElementById('cloak42
 a74f0614ed4db3344f2b218c31c29f').innerHTML = '';
				var prefix = '&#109;a'
  + 'i&#108;' + '&#116;o';
				var path = 'hr' + 'ef' + '=';
				var addy42a
 74f0614ed4db3344f2b218c31c29f = 'm&#97;d&#101;l&#101;&#105;n&#101;777' + '&
 #64;';
				addy42a74f0614ed4db3344f2b218c31c29f = addy42a74f0614ed4db3344f2
 b218c31c29f + 'h&#111;tm&#97;&#105;l' + '&#46;' + 'fr?s&#117;bj&#101;ct=FFF
 :%20WW-II-III-Tr&#97;&#105;n&#105;ng';
				var addy_text42a74f0614ed4db3344
 f2b218c31c29f = 'M&#97;d&#101;l&#101;&#105;n&#101; Schw&#97;rz-Schm&#105;dl
 &#105;n';document.getElementById('cloak42a74f0614ed4db3344f2b218c31c29f').i
 nnerHTML += '<a title="E-Mail an Fahrtenleiterin Madeleine" ' + path + '\''
  + prefix + ':' + addy42a74f0614ed4db3344f2b218c31c29f + '\' target="_blank
 ">'+addy_text42a74f0614ed4db3344f2b218c31c29f+'';
		\nAnmeldung und Abspsra
 che: Intern in Paddel-Trainingsgruppe\n                                    
 WW-Ausfahrt WW II und III \n                                       für Teil
 neher der Hüningen-Trainingsgruppe bzw. Trainings-Wochenende\nDu warst mit 
 Madeleine schon in Hüningen beim Training und möchtest gerne mit? Melde Dic
 h bitte bei Diese E-Mail-Adresse ist vor Spambots geschützt! Zur Anzeige mu
 ss JavaScript eingeschaltet sein!
				document.getElementById('cloak5594e0e
 a61c2b8b02f9198b2cfb04502').innerHTML = '';
				var prefix = '&#109;a' + 'i
 &#108;' + '&#116;o';
				var path = 'hr' + 'ef' + '=';
				var addy5594e0ea
 61c2b8b02f9198b2cfb04502 = 'm&#97;d&#101;l&#101;&#105;n&#101;777' + '&#64;'
 ;
				addy5594e0ea61c2b8b02f9198b2cfb04502 = addy5594e0ea61c2b8b02f9198b2cf
 b04502 + 'h&#111;tm&#97;&#105;l' + '&#46;' + 'fr?s&#117;bj&#101;ct=FFF:%20W
 W-II-III-Tr&#97;&#105;n&#105;ng';
				var addy_text5594e0ea61c2b8b02f9198b2
 cfb04502 = 'M&#97;d&#101;l&#101;&#105;n&#101;';document.getElementById('clo
 ak5594e0ea61c2b8b02f9198b2cfb04502').innerHTML += '<a title="E-Mail an Fahr
 tenleiterin Madeleine" ' + path + '\'' + prefix + ':' + addy5594e0ea61c2b8b
 02f9198b2cfb04502 + '\' target="_blank">'+addy_text5594e0ea61c2b8b02f9198b2
 cfb04502+'';
		 (E-Mail:Diese E-Mail-Adresse ist vor Spambots geschützt! Zu
 r Anzeige muss JavaScript eingeschaltet sein!
				document.getElementById('
 cloakb1f275e7acf9c56162cf288953d58f07').innerHTML = '';
				var prefix = '&
 #109;a' + 'i&#108;' + '&#116;o';
				var path = 'hr' + 'ef' + '=';
				var 
 addyb1f275e7acf9c56162cf288953d58f07 = 'm&#97;d&#101;l&#101;&#105;n&#101;77
 7' + '&#64;';
				addyb1f275e7acf9c56162cf288953d58f07 = addyb1f275e7acf9c5
 6162cf288953d58f07 + 'h&#111;tm&#97;&#105;l' + '&#46;' + 'fr?s&#117;bj&#101
 ;ct=FFF:%20WW-A&#117;sf&#97;hrt%20II%20&#117;nd%20III';
				var addy_textb1
 f275e7acf9c56162cf288953d58f07 = ' m&#97;d&#101;l&#101;&#105;n&#101;777@h&#
 111;tm&#97;&#105;l.fr';document.getElementById('cloakb1f275e7acf9c56162cf28
 8953d58f07').innerHTML += '<a title="E-Mail an Fahrtenleiterin Madeleine" '
  + path + '\'' + prefix + ':' + addyb1f275e7acf9c56162cf288953d58f07 + '\' 
 target="_blank">'+addy_textb1f275e7acf9c56162cf288953d58f07+'';
		)\n \n
X-ALT-DESC;FMTTYPE=text/html:<p style="text-align: right;"><strong><span style="color: #3366ff;">Fahrten
 leiterin:</span> </strong><span id="cloak42a74f0614ed4db3344f2b218c31c29f">
 Diese E-Mail-Adresse ist vor Spambots geschützt! Zur Anzeige muss JavaScrip
 t eingeschaltet sein!</span><script type='text/javascript'>
				document.ge
 tElementById('cloak42a74f0614ed4db3344f2b218c31c29f').innerHTML = '';
				v
 ar prefix = '&#109;a' + 'i&#108;' + '&#116;o';
				var path = 'hr' + 'ef' +
  '=';
				var addy42a74f0614ed4db3344f2b218c31c29f = 'm&#97;d&#101;l&#101;&
 #105;n&#101;777' + '&#64;';
				addy42a74f0614ed4db3344f2b218c31c29f = addy
 42a74f0614ed4db3344f2b218c31c29f + 'h&#111;tm&#97;&#105;l' + '&#46;' + 'fr?
 s&#117;bj&#101;ct=FFF:%20WW-II-III-Tr&#97;&#105;n&#105;ng';
				var addy_te
 xt42a74f0614ed4db3344f2b218c31c29f = 'M&#97;d&#101;l&#101;&#105;n&#101; Sch
 w&#97;rz-Schm&#105;dl&#105;n';document.getElementById('cloak42a74f0614ed4db
 3344f2b218c31c29f').innerHTML += '<a title="E-Mail an Fahrtenleiterin Madel
 eine" ' + path + '\'' + prefix + ':' + addy42a74f0614ed4db3344f2b218c31c29f
  + '\' target="_blank">'+addy_text42a74f0614ed4db3344f2b218c31c29f+'<\/a>';
 
		</script></p><p><strong>Anmeldung und Abspsrache:</strong> Intern in Pad
 del-Trainingsgruppe</p><p style="text-align: left;"><span style="font-size:
  24pt; color: #993366;">&nbsp;&nbsp;&nbsp;&nbsp;&nbsp;&nbsp;&nbsp;&nbsp;&nb
 sp;&nbsp;&nbsp;&nbsp;&nbsp;&nbsp;&nbsp;&nbsp;&nbsp;&nbsp;&nbsp;&nbsp;&nbsp;
 &nbsp;&nbsp;&nbsp;&nbsp;&nbsp;&nbsp;&nbsp;&nbsp;&nbsp;&nbsp;&nbsp;&nbsp;&nb
 sp;&nbsp; WW-Ausfahrt WW II und III </span></p><p style="text-align: left;"
 ><span style="font-size: 14pt;">&nbsp;&nbsp;&nbsp;&nbsp;&nbsp;&nbsp;&nbsp;&
 nbsp;&nbsp;&nbsp;&nbsp;&nbsp;&nbsp;&nbsp;&nbsp;&nbsp;&nbsp;&nbsp;&nbsp;&nbs
 p;&nbsp;&nbsp;&nbsp;&nbsp;&nbsp;&nbsp;&nbsp;&nbsp;&nbsp;&nbsp;&nbsp;&nbsp;&
 nbsp;&nbsp;&nbsp;&nbsp;&nbsp;&nbsp; für Teilneher der Hüningen-Trainingsgru
 ppe bzw. Trainings-Wochenende</span></p><p>Du warst mit Madeleine schon in 
 Hüningen beim Training und möchtest gerne mit? Melde Dich bitte bei <span i
 d="cloak5594e0ea61c2b8b02f9198b2cfb04502">Diese E-Mail-Adresse ist vor Spam
 bots geschützt! Zur Anzeige muss JavaScript eingeschaltet sein!</span><scri
 pt type='text/javascript'>
				document.getElementById('cloak5594e0ea61c2b8
 b02f9198b2cfb04502').innerHTML = '';
				var prefix = '&#109;a' + 'i&#108;'
  + '&#116;o';
				var path = 'hr' + 'ef' + '=';
				var addy5594e0ea61c2b8b
 02f9198b2cfb04502 = 'm&#97;d&#101;l&#101;&#105;n&#101;777' + '&#64;';
				a
 ddy5594e0ea61c2b8b02f9198b2cfb04502 = addy5594e0ea61c2b8b02f9198b2cfb04502 
 + 'h&#111;tm&#97;&#105;l' + '&#46;' + 'fr?s&#117;bj&#101;ct=FFF:%20WW-II-II
 I-Tr&#97;&#105;n&#105;ng';
				var addy_text5594e0ea61c2b8b02f9198b2cfb0450
 2 = 'M&#97;d&#101;l&#101;&#105;n&#101;';document.getElementById('cloak5594e
 0ea61c2b8b02f9198b2cfb04502').innerHTML += '<a title="E-Mail an Fahrtenleit
 erin Madeleine" ' + path + '\'' + prefix + ':' + addy5594e0ea61c2b8b02f9198
 b2cfb04502 + '\' target="_blank">'+addy_text5594e0ea61c2b8b02f9198b2cfb0450
 2+'<\/a>';
		</script> (E-Mail:<span id="cloakb1f275e7acf9c56162cf288953d58
 f07">Diese E-Mail-Adresse ist vor Spambots geschützt! Zur Anzeige muss Java
 Script eingeschaltet sein!</span><script type='text/javascript'>
				docume
 nt.getElementById('cloakb1f275e7acf9c56162cf288953d58f07').innerHTML = '';

 				var prefix = '&#109;a' + 'i&#108;' + '&#116;o';
				var path = 'hr' + '
 ef' + '=';
				var addyb1f275e7acf9c56162cf288953d58f07 = 'm&#97;d&#101;l&#
 101;&#105;n&#101;777' + '&#64;';
				addyb1f275e7acf9c56162cf288953d58f07 =
  addyb1f275e7acf9c56162cf288953d58f07 + 'h&#111;tm&#97;&#105;l' + '&#46;' +
  'fr?s&#117;bj&#101;ct=FFF:%20WW-A&#117;sf&#97;hrt%20II%20&#117;nd%20III';

 				var addy_textb1f275e7acf9c56162cf288953d58f07 = ' m&#97;d&#101;l&#101;&
 #105;n&#101;777@h&#111;tm&#97;&#105;l.fr';document.getElementById('cloakb1f
 275e7acf9c56162cf288953d58f07').innerHTML += '<a title="E-Mail an Fahrtenle
 iterin Madeleine" ' + path + '\'' + prefix + ':' + addyb1f275e7acf9c56162cf
 288953d58f07 + '\' target="_blank">'+addy_textb1f275e7acf9c56162cf288953d58
 f07+'<\/a>';
		</script>)</p><p>&nbsp;</p>
DTSTAMP:20260422T175930
DTSTART;TZID=Europe/Berlin;VALUE=DATE:20250529
DTEND;TZID=Europe/Berlin;VALUE=DATE:20250602
SEQUENCE:0
TRANSP:OPAQUE
END:VEVENT
END:VCALENDAR